BEGIN:VCALENDAR
VERSION:2.0
PRODID:-//BPW Switzerland//NONSGML kigkonsult.se iCalcreator 2.16.12//
METHOD:PUBLISH
X-MS-OLK-FORCEINSPECTOROPEN:TRUE
BEGIN:VEVENT
UID:20260422T103317CEST-5852c0KvJi@BPW Switzerland
DTSTAMP:20260422T083317Z
DESCRIPTION:Sie interessieren sich für das Thema Unternehmensführung? Sie h
 aben schon einmal mit dem Gedanken gespielt\, eine Aufgabe als Stiftungs- 
 oder Verwaltungsrätin zu übernehmen\, und würden sich gerne in dieser Rich
 tung weiterbilden?\n\nDer Zentrale Personaldienst des Finanzdepartements d
 es Kantons Basel-Stadt möchte Sie dabei unterstützen und bietet in Zusamme
 narbeit mit Business & Professional Women Switzerland einen kompakten und 
 massgeschneiderten Finanzkurs an.\n\nDer Kurs richtet sich an Teilnehmerin
 nen\, die die finanziellen Sachverhalte eines Unternehmens verstehen möcht
 en. Eine Ausbildung im Finanzwesen ist nicht vorausgesetzt.\n\nFlyer\n\nAc
 htung: Der Kurs besteht aus drei Modulen. Einzelne Module können nicht geb
 ucht werden. Für Mitglieder und registrierte Interessentinnen von BPW Swit
 zerland werden ausserdem die Finanzkurse I-III angeboten\n\n(siehe http://
 bpw.ch/finanzkursen-zukuenftige-verwaltungsraetinnen).\n\nDer Kurs ist ber
 eits ausgebucht!
DTSTART:20160905T133000
DTEND:20160905T173000
LOCATION:Pullman Basel Europe\, Clarastrasse 43\, 4005 Basel
ORGANIZER:MAILTO:BPW Switzerland <davos@bpw.ch>
SUMMARY:Finanzkurs für angehende Stiftungs- und Verwaltungs- rätinnen und M
 anagerinnen
END:VEVENT
END:VCALENDAR
