BEGIN:VCALENDAR
VERSION:2.0
PRODID:-//BPW Switzerland//NONSGML kigkonsult.se iCalcreator 2.16.12//
METHOD:PUBLISH
X-MS-OLK-FORCEINSPECTOROPEN:TRUE
BEGIN:VEVENT
UID:20260422T103051CEST-5695ldFWsW@BPW Switzerland
DTSTAMP:20260422T083051Z
DESCRIPTION:BPW Switzerland ist Gastgeberin der nächsten Europäischen Konfe
 renz. BPW-Mitglieder aus ganz Europa werden sich in Zürich treffen und dre
 i Tage mit Workshops\, Podiumsdiskussionen und natürlich viel Networking v
 erbringen.\n\nKommen Sie nach Zürich\, treffen Sie neue Geschäftspartnerin
 nen und lassen Sie sich von Frauen aus anderen Kulturen inspirieren.\n\nRe
 servieren Sie sich jetzt den Termin!\n\nAktuelle Informationen laufend unt
 er: www.bpw-european-conference.org\n\n\n\n
DTSTART:20160930T150000
DTEND:20161002T230000
LOCATION:Universität Zürich
ORGANIZER:MAILTO:BPW Switzerland <davos@bpw.ch>
SUMMARY:15th BPW European Conference Zurich 2016
END:VEVENT
END:VCALENDAR
