BEGIN:VCALENDAR
VERSION:2.0
PRODID:-//BPW Switzerland//NONSGML kigkonsult.se iCalcreator 2.16.12//
METHOD:PUBLISH
X-MS-OLK-FORCEINSPECTOROPEN:TRUE
BEGIN:VEVENT
UID:20260422T101356CEST-0100vaVoD4@BPW Switzerland
DTSTAMP:20260422T081356Z
DESCRIPTION:Fallstudien \n\nJahresberichte lesen\nUnternehmensleistungen üb
 erprüfen\nVoraussetzung für die Teilnahme ist der Besuch der BPW-Finanzkur
 se I & II\n \n\n\nInhalt:\nDieser Kurs ist ein interaktiver Workshop. Die 
 Teilnehmerinnen konzentrieren sich dabei auf echte Fallstudien und analysi
 eren Jahresberichte von Organisationen aus unterschiedlichen Branchen.\n\n
 Die Berichte werden aufgrund eines Fragebogens ausgewählt\, den die Teilne
 hmerinnen im Vorfeld ausfüllen. Ziel ist es\, den Workshop mit Jahresberic
 hten und Lesarten anzureichern\, die den Geschäftsfeldern der Teilnehmerin
 nen nahestehen.\n\n\nDozentinnen: \nMonika Welti\, Nora Willi\n\nZu den Do
 zentinnen:\n \nMonika Welti bringt mehre Jahre Erfahrung als CFO und Mitgl
 ied der Geschäftsleitung in mittelständischen Unternehmungen der Immobilie
 nbranche\, Industrie wie aus Private Equity-Unternehmungen mit. In dieser 
 Funktion ist sie Lieferantin von Finanzinformationen zu Handen der Geschäf
 tsleitung\, des Verwaltungsrates und der Aktionäre. Sie kennt die Anforder
 ungen dieser Stakeholders aus verschiedenen Lebensphasen eines Unternehmen
 s – von Neugründungen\, über reife\, stabile Unternehmungen bis hin zu Unt
 ernehmen in der Krise und ist daher vertraut mit den unterschiedlichen Anf
 orderungen an Finanzinformationen.\n\nMonika Welti verfügt über einen Absc
 hluss als Betriebsökonomin FH und als eidg. dipl. Wirtschaftsprüferin. In 
 früheren Funktionen arbeitete sie während mehrerer Jahre als Wirtschaftspr
 üferin bei grossen\, international Prüfgesellschaften sowie als Leiterin C
 ontrolling in einem börsenkotierten Industriebetrieb und einem Infrastrukt
 urunternehmen des Bundes.\n\n \n\nNora Willi bringt mehre Jahre Erfahrung 
 als Verwaltungsrätin in mehreren KMUs mit. Als Verwaltungsratsmitglied in 
 diesen Unternehmen ist sie für das Finanzcontrolling verantwortlich und is
 t bei zwei Verwaltungsräten Präsidentin. Sie hat Erfahrung mit Unternehmen
  in den unterschiedlichsten finanziellen Situationen und weiss\, welche Fi
 nanzinformationen benötigt werden\, um die Unternehmenssituation einschätz
 en zu können und allfällige notwendige Anpassungen in die Wege zu leiten.
 \n\nNora Willi verfügt über einen Abschluss als Betriebsökonomin FH und ei
 nen Master in systemischer Organisationsberatung. Sie ist seit über zehn J
 ahren im Beratungsgeschäft tätig. Sie berät mittelständische Unternehmen u
 nd Organisationen in Veränderungsprozessen und begleitet Führungskräfte in
  herausfordernden Situationen.\n\nTeilnahmegebühr:\nCHF 250.00 für BPW und
  eingetragene Interessentinnen\nCHF 350.00 für Nicht-BPW\n\nAnmeldung:\nDi
 e Anmeldung ist verbindlich. Eine Gebühr von CHF 30.00 wird bei Annullieru
 ng bis zum 14. Oktober 2016 erhoben. Bei Annullationen ab dem 15. Oktober 
 2016 oder bei Nicht-Erscheinen ohne vorgängige Annullierung wird die gesam
 te Teilnahmegebühr fällig. \n\nProgramm\n\n \n\n
DTSTART:20161024T133000
DTEND:20161024T173000
LOCATION:Olten
ORGANIZER:MAILTO:BPW Switzerland <davos@bpw.ch>
SUMMARY:Finanzkurs III: Fallstudien
END:VEVENT
END:VCALENDAR
