BEGIN:VCALENDAR
VERSION:2.0
PRODID:-//BPW Switzerland//NONSGML kigkonsult.se iCalcreator 2.16.12//
METHOD:PUBLISH
X-MS-OLK-FORCEINSPECTOROPEN:TRUE
BEGIN:VEVENT
UID:20260422T101315CEST-9219vSgthz@BPW Switzerland
DTSTAMP:20260422T081315Z
DESCRIPTION:Kein Unternehmen ist vor der Krise gefeit. Wenn eine Firma an e
 inen Tiefpunkt gelangt\, kann das schwerwiegende Folgen nach sich ziehen –
  für den Ruf\, für den Umsatz\, für die Liquidität und eventuell auch für 
 den Börsenkurs. Welche Rolle und welche Verantwortung trägt der Verwaltung
 srat angesichts einer solchen Bedrohung?\n \nDiesem brennend aktuellen The
 ma wollen BPW Switzerland am diesjährigen 5. Board Day nachgehen. In Refer
 aten und einer Podiumsdiskussion kommen Experten und Mitglieder von Verwal
 tungsräten zu Wort\, anschliessend können die Teilnehmerinnen die untersch
 iedlichen Aspekte der Problematik in Workshops vertiefen.\n \nMit der Ford
 erung nach Frauenquoten in Verwaltungsräten positionieren sich BPW Switzer
 land klar: Wir wollen mehr Frauen in den höchsten Gremien der Wirtschaft. 
 Doch damit nicht genug: Wir gehen einen Schritt weiter und bieten auch Wei
 terbildung und Erfahrungsaustausch an. Grund: Die Anforderungen an ein Ver
 waltungsratsmandat werden immer komplexer\, die Tätigkeit wird mehr und me
 hr professionalisiert und die rechtlichen und regulatorischen Rahmenbeding
 ungen erfordern ein immer grösseres Wissen. Um bestens darauf vorbereitet 
 zu sein\, veranstalten BPW Switzerland Finanzkurs-Zyklen sowie einmal jähr
 lich den Board Day\, der einem spezifischen Thema gewidmet ist.\n\n \n\nPr
 ogramm\, Referenten\, Preise\n\nInfo-Flyer 5. Board Day \n
DTSTART:20161104T090000
DTEND:20161104T153000
LOCATION:Hotel Kreuz\, Bern
ORGANIZER:MAILTO:BPW Switzerland <davos@bpw.ch>
SUMMARY:5. Board Day: Wenn die Krise den Verwaltungsrat trifft
END:VEVENT
END:VCALENDAR
