BEGIN:VCALENDAR
VERSION:2.0
PRODID:-//BPW Switzerland//NONSGML kigkonsult.se iCalcreator 2.16.12//
METHOD:PUBLISH
X-MS-OLK-FORCEINSPECTOROPEN:TRUE
BEGIN:VEVENT
UID:20260422T101403CEST-6365XIWxlV@BPW Switzerland
DTSTAMP:20260422T081403Z
DESCRIPTION:Einmal im Jahr treffen sich die Präsidentinnen aller schweizeri
 schen BPW-Clubs und der Zentralvorstand von BPW Switzerland zur Präsidenti
 nnenkonferenz.\n\nAm kommenden 5. November berichtet der neue Zentralvorst
 and über die Strategie\, die er an seiner Klausurtagung im August beschlos
 sen hat.\n\nAusserdem auf dem Programm:\n\n	Workshop zum Thema „Nachfolgere
 gelung im Vorstand“\n	Austausch von Best Practice unter den Präsidentinnen
 \n	Networking à discretion\n\n \nDie Teilnahme am Anlass ist für Clubpräsid
 entinnen kostenlos.\n\nLageplan Hotel Astoria
DTSTART:20161105T103000
DTEND:20161105T170000
LOCATION:Hotel Restaurant Astoria\, Olten
ORGANIZER:MAILTO:BPW Switzerland <davos@bpw.ch>
SUMMARY:Präsidentinnenkonferenz
END:VEVENT
END:VCALENDAR
