BEGIN:VCALENDAR
VERSION:2.0
PRODID:-//BPW Switzerland//NONSGML kigkonsult.se iCalcreator 2.16.12//
METHOD:PUBLISH
X-MS-OLK-FORCEINSPECTOROPEN:TRUE
BEGIN:VEVENT
UID:20260422T143318CEST-9592UbUoGC@BPW Switzerland
DTSTAMP:20260422T123318Z
DESCRIPTION:Der 26. August 1930 war der Tag\, an dem Lena Madesin Phillips 
 in Genf den internationalen Verband der Business and Professional Women gr
 ündete. BPW International haben daher den 26. August zum BPW Day ernannt. 
 Sie können ganz einfach mitmachen: Tragen Sie an dem Tag etwas Gelbes.\n\n
 #BPWDay
DTSTART:20160826T000000
DTEND:20160826T235900
LOCATION:weltweit
ORGANIZER:MAILTO:BPW Switzerland <davos@bpw.ch>
SUMMARY:BPW Day
END:VEVENT
END:VCALENDAR
