BEGIN:VCALENDAR
VERSION:2.0
PRODID:-//BPW Switzerland//NONSGML kigkonsult.se iCalcreator 2.16.12//
METHOD:PUBLISH
X-MS-OLK-FORCEINSPECTOROPEN:TRUE
BEGIN:VEVENT
UID:20260422T101351CEST-2202bjnrZK@BPW Switzerland
DTSTAMP:20260422T081351Z
DESCRIPTION:im Bildungszentrum Palottis Schiers\n\n\n\nDas Bündner Jahrbuch
  2017 porträtiert in seinem Schwerpunktthema sieben\n«Bündner Frauenorgani
 sationen». Die Auswahl bietet einen repräsentativen Einblick\nin Geschicht
 e und Gegenwart der über 20 regional und kantonal tätigen Organisationen\,
  die sich für die Ausbildung der Frauen und ihre Stellung in Beruf und\nFa
 milie einsetzen.\n \n\nProgramm\n\n18.30 Uhr\nMusikalische Einstimmung mit
  «S’Chörli»\n\n18.45 Uhr\nBegrüssung\nDr. Christoph Bickel\, Leiter Bildun
 gszentrum Palottis\nDr. Peter Metz\, Redaktor\n\n19.00 Uhr\nSilvia Hofmann
 \, Leiterin der Stabsstelle für Chancengleichheit von Frau und Mann\n\n19.
 15 Uhr\nElisabeth Bardill\, Redaktorin und Autorin\n\n19.20 Uhr\nEinlage m
 it «S’Chörli»\n\n19.30 Uhr\nApéro\, Büchertisch (Monika und Anna Bardill )
 \n\nMehr Informationenen hier\n \n\nKosten\n\nDer Anlass selber ist kosten
 los.\n \n\nAnmeldung \nbis Freitag\, 21. Okober 2016\n\nüber den Anmeldedo
 odle\noder direkt per E-Mail an\nElisabeth Bardill\nelbatenna@bluewin.ch\n
  \n\nAnreise\n\nBildungszentrum Palottis\nPalottisweg 4\n7220 Schiers\nwww
 .palottis.ch\n\nParplätze sind vorhanden\n
DTSTART:20161028T183000
DTEND:20161028T210000
ORGANIZER:MAILTO:BPW Switzerland <davos@bpw.ch>
SUMMARY:Vernissage Bündner Jahrbuch 2017
END:VEVENT
END:VCALENDAR
