BEGIN:VCALENDAR
VERSION:2.0
PRODID:-//BPW Switzerland//NONSGML kigkonsult.se iCalcreator 2.16.12//
METHOD:PUBLISH
X-MS-OLK-FORCEINSPECTOROPEN:TRUE
BEGIN:VEVENT
UID:20260421T103253CEST-1852SeNfUM@BPW Switzerland
DTSTAMP:20260421T083253Z
DESCRIPTION:BPW Basel heissen Sie herzlich willkommen\n\nFreitag\, 23.06.20
 17\; 18.00 Uhr\n\nAlumnae-Meeting für aktuelle und ehemalige Club-Präsiden
 tinnen und Zentralvorstandsmitglieder von BPW Switzerland\n\n\n	„Als wir da
 mals…..“ - Gespräche am Kamin über Dich und mich und BPW: Wir BPW kennen a
 lle die Steckbriefe von Brigitta\, Paula und Wilma. Wie und woran aber erk
 ennt die Öffentlichkeit diese drei Frauen? Und wie können wir sie bekannte
 r machen? Dazu brauchen wir reale Erlebnisse und Erfahrungen unserer frühe
 ren Präsidentinnen. Am Kamin und bei einem Glas guten Rotwein möchten wir 
 ihre Schatzkisten der Erinnerungen öffnen und Anekdoten sammeln.\n\nSamsta
 g\, 24.06.2017\n\n09.30 Uhr: Workshops zu folgenden Themen\n\n\n	Fintech – 
 Chancen für BPW mit Florence Anglès und Beatrice Lüthi: Was ist Fintech üb
 erhaupt? Entwicklung von Fintech inkl. die rechtlichen Rahmenbedingungen. 
 Chancen und Risiken? Wie können BPW Fintech selber nutzen und sinnvoll ein
 setzen?\n	Anlegen – der Trend ist nicht immer ein Freund mit Joana Torres u
 nd Special Guest: Grundlagen des Anlegens und der Finanzmärkte klar und pr
 axisorientiert erklärt\n	Blickpunkt – digitales Schaufenster Website mit Ch
 ristine Abbühl: Die Webseite ist das digitale Aushängeschild eines BPW Clu
 bs. Sie ist Ihr Schaufenster\, mit dem Sie sich der Aussenwelt präsentiere
 n. Im Workshop gehen wir auf die wichtigsten Punkte ein\, damit Ihre Webse
 ite den Bedürfnissen und Erwartungen der verschiedenen Anspruchsgruppen ge
 recht wird – speziell denen\, die Sie gerne für sich gewinnen möchten.\n	Sk
 ulpturengarten von Claire Ochsner: Besuch mit Führung durch die Galerie un
 d den verwunschenen Skulpturengarten mit den farbenfrohen\, inspirierenden
  Wesen von Claire Ochsner mit anschliessendem Workshop: wir machen eine Co
 llage aus Fotos von Werken der Künstlerin (max. 25 Teilnehmerinnen - Anmel
 dungen werden nach Eingang berücksichtigt).\n\n13.00 Uhr: Delegiertenversa
 mmlung\n \n09.30 – 17.30 Uhr: Partnerprogramm - Musée de l’Automobile Mulh
 ouseée\n \nAb 18.00 Uhr: Apéro und Jubiläumsfeier '70 Jahre BPW Club Basel
 ' mit festlichem Abendessen - Moderation und Inspiration Kafi Freitag\n\nF
 lyer\nReservationsformular Motel One
DTSTART:20170623T180000
DTEND:20170624T235900
LOCATION:Basel
ORGANIZER:MAILTO:BPW Switzerland <davos@bpw.ch>
SUMMARY:Delegiertenversammlung und Alumnae Meeting
END:VEVENT
END:VCALENDAR
