BEGIN:VCALENDAR
VERSION:2.0
PRODID:-//BPW Switzerland//NONSGML kigkonsult.se iCalcreator 2.16.12//
METHOD:PUBLISH
X-MS-OLK-FORCEINSPECTOROPEN:TRUE
BEGIN:VEVENT
UID:20260421T102436CEST-16677r47WV@BPW Switzerland
DTSTAMP:20260421T082436Z
DESCRIPTION:The next YBPW symposium in Rome will be held from the 21st unti
 l the 23rd of April 2017.\n\nSymposium Agenda
DTSTART:20170421T000000
DTEND:20170423T235900
LOCATION:Rome
ORGANIZER:MAILTO:BPW Switzerland <davos@bpw.ch>
SUMMARY:YBPW Symposium
END:VEVENT
END:VCALENDAR
