BEGIN:VCALENDAR
VERSION:2.0
PRODID:-//BPW Switzerland//NONSGML kigkonsult.se iCalcreator 2.16.12//
METHOD:PUBLISH
X-MS-OLK-FORCEINSPECTOROPEN:TRUE
BEGIN:VEVENT
UID:20260421T102436CEST-4801LpekXr@BPW Switzerland
DTSTAMP:20260421T082436Z
DESCRIPTION:\nKurs zum Thema 'Finanzkennzahlen verstehen'\nWie überwachen S
 ie den Geschäftsgang?\nWie finanzieren Sie Ihr Unternehmens?\n\nDieser Kur
 s wurde von BPW Switzerland entwickelt\, um das Finanzfachwissen zu vermit
 teln\, welches in Führungs- und/oder Verwaltungsratspositionen gefordert i
 st. Der Workshop richtet sich auch an Frauen in solchen Positionen\, die i
 hr Finanzwissen auffrischen möchten.\n\nDie Kursleiterinnen: \n\n\n	Monika 
 Welti hat mehr als zehn Jahre Erfahrung als CFO und Mitglied der Ge­schäft
 s­leitung in mittelständischen Unternehmen aus den Bereichen Immobilien\, 
 Industrie\, Informatik und Private Equity. In diesen Funktionen war sie ve
 rantwortlich für Finan­zen\, ICT und HR.\n	Nora Willi bringt einige Jahre E
 rfahrung als Verwaltungsrätin in mehreren KMUs mit. Als Verwaltungsratsmit
 glied in diesen Unternehmen ist sie für das Finanzcontrolling verantwortli
 ch und ist bei zwei Verwaltungsräten Präsidentin.\n\nKursausschreibung\n\n
 Lageplan Astoria in Olten
DTSTART:20170426T133000
DTEND:20170426T173000
LOCATION:Hotel Restaurant Astoria\, Olten
ORGANIZER:MAILTO:BPW Switzerland <davos@bpw.ch>
SUMMARY:Finanzkurs 2
END:VEVENT
END:VCALENDAR
