BEGIN:VCALENDAR
VERSION:2.0
PRODID:-//BPW Switzerland//NONSGML kigkonsult.se iCalcreator 2.16.12//
METHOD:PUBLISH
X-MS-OLK-FORCEINSPECTOROPEN:TRUE
BEGIN:VEVENT
UID:20260421T102925CEST-55423Edp2E@BPW Switzerland
DTSTAMP:20260421T082925Z
DESCRIPTION:\nKurs zum Thema 'Fallstudien'\nJahresberichte lesen\nUnternehm
 ensleistungen überprüfen\n\nDieser Kurs wurde von BPW Switzerland entwicke
 lt\, um das Finanzfachwissen zu vermitteln\, welches in Führungs- und/oder
  Verwaltungsratspositionen gefordert ist. Der Workshop richtet sich auch a
 n Frauen in solchen Positionen\, die ihr Finanzwissen auffrischen möchten.
 \n\nDie Kursleiterinnen:\n\n\n	Monika Welti hat mehr als zehn Jahre Erfahru
 ng als CFO und Mitglied der Ge­schäfts­leitung in mittelständischen Untern
 ehmen aus den Bereichen Immobilien\, Industrie\, Informatik und Private Eq
 uity. In diesen Funktionen war sie verantwortlich für Finan­zen\, ICT und 
 HR.\n	Nora Willi bringt einige Jahre Erfahrung als Verwaltungsrätin in mehr
 eren KMUs mit. Als Verwaltungsratsmitglied in diesen Unternehmen ist sie f
 ür das Finanzcontrolling verantwortlich und ist bei zwei Verwaltungsräten 
 Präsidentin.\n\nKursausschreibung\n\nLageplan Astoria in Olten
DTSTART:20170614T133000
DTEND:20170614T173000
LOCATION:Hotel Restaurant Astoria\, Olten
ORGANIZER:MAILTO:BPW Switzerland <davos@bpw.ch>
SUMMARY:Finanzkurs 3
END:VEVENT
END:VCALENDAR
