BEGIN:VCALENDAR
VERSION:2.0
PRODID:-//BPW Switzerland//NONSGML kigkonsult.se iCalcreator 2.16.12//
METHOD:PUBLISH
X-MS-OLK-FORCEINSPECTOROPEN:TRUE
BEGIN:VEVENT
UID:20260421T103232CEST-53309vVacz@BPW Switzerland
DTSTAMP:20260421T083232Z
DESCRIPTION:Details folgen
DTSTART:20170530T090000
DTEND:20170530T183000
ORGANIZER:MAILTO:BPW Switzerland <davos@bpw.ch>
SUMMARY:10. Businesstag Vaduz
END:VEVENT
END:VCALENDAR
