BEGIN:VCALENDAR
VERSION:2.0
PRODID:-//BPW Switzerland//NONSGML kigkonsult.se iCalcreator 2.16.12//
METHOD:PUBLISH
X-MS-OLK-FORCEINSPECTOROPEN:TRUE
BEGIN:VEVENT
UID:20260421T102740CEST-14833e9UWu@BPW Switzerland
DTSTAMP:20260421T082740Z
DESCRIPTION:\n \n\nProgramm\n\nIm Migros Symondpark\, unserem diesjährigen 
 Betrieb in unserer Region\, erfahren wir mehr über den heutigen Konsum\, d
 ie Organisation des Einkaufes und die Logistik hinter den Kulissen.\nMicha
 el Henggartner\, Marktleiter im Symondpark\, nimmt uns mit auf eine spanne
 nde Führung vor und hinter die Kulissen des Migros Davos.\n\n19.00 Uhr Beg
 rüssung\n19.15-20.15 Uhr Führung durch den Migros Symondpark mit Michael H
 enggartner\nca. 20.15 Uhr Anschliessendes Abendessen im Migros Restaurant
 \n\n \n\nMenu\n\nWir kommen in den Genuss vom reichhaltigen Buffet Angebot
  und dürfen aus den Vorspeisen\, Hauptgängen und Desserts nach Lust und La
 une auswählen:\n\nDetails Buffet Angebot \n\nFr. 35.00 pro Person inkl. Mi
 neral und Kaffee/ Tee\n \n\nKosten\n\nDer Anlass selber ist kostenlos. Ess
 en und Getränke gehen zu Lasten der Teilnehmenden und werden direkt vor Or
 t an der Migros Restaurant Kasse in bar beglichen.\nBitte gleich direkt be
 im ersten Gang bezahlen.\n \n\nWeg\n\nWir bilden Fahrgemeinschaften. Bitte
  bei der Anmeldung eintragen\, ob ein Mitfahrplatz gewünscht wird.\n \n\nA
 nmeldung \nbis Montag\, 17. April 2017\n \n\nüber den Anmeldedoodle \nper 
 Mail an Martina Walsoe\nAbmeldungen: Bis zum 17. April 2017 bis 18.00 Uhr 
 kostenlos\, danach werden die anfallenden Kosten dem Teilnehmer verrechnet
 .\n
DTSTART:20170419T190000
DTEND:20170419T220000
LOCATION:BPW Davos Klosters\, Migros Symondpark\, Davos
ORGANIZER:MAILTO:BPW Switzerland <davos@bpw.ch>
SUMMARY:Betrieb in unserer Region Migros
END:VEVENT
END:VCALENDAR
