BEGIN:VCALENDAR
VERSION:2.0
PRODID:-//BPW Switzerland//NONSGML kigkonsult.se iCalcreator 2.16.12//
METHOD:PUBLISH
X-MS-OLK-FORCEINSPECTOROPEN:TRUE
BEGIN:VEVENT
UID:20260421T103345CEST-0357BHe53V@BPW Switzerland
DTSTAMP:20260421T083345Z
DESCRIPTION:Die Facettten des Menschen in Bild & Schrift\n\n\n\nProgramm\n
 \n19.00 Uhr Apéro im Shima\n1. Teil Einführungsreferat nach dem Apéro\n\nG
 emeinsames Nachtessen\n2. Teil Einführungsreferat nach dem Hauptgang\n \n
 \nMenu\n\nBuffet\nBunte Blattsalate \n***\nPouletschnitzel oder Vegischnit
 zel\nSommergemüse\nRosmarinkartoffeln und Reis \n***\nPanna Cotta Glacé mi
 t Himbeeren \n \n\nFr. 30.00 inkl. Apéro (Getränke auf eigene Rechnung)\n 
 \n\nKosten\n\nDer Anlass selber ist kostenlos. Essen und Getränke gehen zu
  Lasten der Teilnehmenden und werden direkt vor Ort in bar beglichen.\n \n
 \nWeg\n\nWir bilden Fahrgemeinschaften. Bitte bei der Anmeldung eintragen\
 , ob ein Mitfahrplatz gewünscht wird.\n \n\nAnmeldung \nbis Montag\, 14. A
 ugust 2017\n \n\nüber den Anmeldedoodle \nper Mail an Martina Walsoe\nAbme
 ldungen: Bis zum 12. November 2016 bis 18.00 Uhr kostenlos\, danach werden
  die anfallenden Kosten dem Teilnehmer verrechnet.\n\n\n
DTSTART:20170816T190000
DTEND:20170816T230000
LOCATION:BPW Davos Klosters\, Shima Davos
ORGANIZER:MAILTO:BPW Switzerland <davos@bpw.ch>
SUMMARY:Einführungsreferat Daniela Glauser
END:VEVENT
END:VCALENDAR
