BEGIN:VCALENDAR
VERSION:2.0
PRODID:-//BPW Switzerland//NONSGML kigkonsult.se iCalcreator 2.16.12//
METHOD:PUBLISH
X-MS-OLK-FORCEINSPECTOROPEN:TRUE
BEGIN:VEVENT
UID:20260421T102601CEST-0385r46vR6@BPW Switzerland
DTSTAMP:20260421T082601Z
DESCRIPTION:\n	\n		\n			Sichtweisen - Erfahrungen - Podiumsgespräch\n			Wie Männer f
 ür Frauen zu Türöffnern werden können.\n		\n		\n			 \n		\n		\n			Frauen sind in Führungs
 gremien immer noch markant untervertreten. Das Potenzial an weiblichen Füh
 rungskräften wird nicht ausgeschöpft\, obwohl eine grössere Vertretung von
  Frauen in den Führungsgremien zu einer besseren Performance der Unternehm
 ung führt (McKinsey-Report 'Women matter') und damit ein wichtiger Faktor 
 für den langfristigen Erfolg einer Unternehmung sein kann.\n			Dies soll sich
  ändern. Der Bundesrat will\, dass die grossen Schweizer Unternehmen bis 2
 020 in ihren Geschäftsleitungen 20 % Frauen und in ihren Verwaltungsräten 
 30 % Frauen haben – oder sonst erklären\, weshalb sie dieses Ziel nicht er
 reichen.\n			Dieses Ziel kann nur in Kooperation mit Männern erreicht werden.
  Es braucht einen Dialog auf Augenhöhe: Was können Männer tun\, um für Fra
 uen zu Türöffnern zu werden? Was können Frauen tun\, wenn sie auf einen Ma
 nn als Türsteher stossen?\n		\n		\n			 \n		\n		\n			Programm\n			18 Uhr    Eintreffen der G
 äste und Apéro\n			19 Uhr    Keynote Sita Mazumder\n			               Podiumsges
 präch mit Sita Mazumder\,\n			               Urs Schenker und Hans Hess\n			    
            Moderation: Zita Küng\n			21 Uhr    Austausch und Networking​\n		\n		
 \n			 \n		\n		\n			\n			Sita Mazumder\, Professorin Informatik und Wirtschaft\, Unterne
 hmerin\, Verwaltungsrätin\n			\n			​Sie hat 2006 das schweizweit erfolgreiche Ge
 nderprogramm «Women's Business» an der Hochschule Luzern gegründet und geh
 t – auch in Bezug auf Genderfragen – als Teil der Veränderung stets mit gu
 tem Beispiel voran. Welche Erfahrungen hat sie gemacht\, welche erfolgreic
 hen Kooperationen mit Männern erlebt – und welches sind aus ihrer Sicht di
 e Erfolgsfaktoren dafür?\n		\n		\n			 \n			 \n		\n		\n			\n			Urs Schenker\, Prof. Dr. iur. LL
 .M\, Rechtsanwalt\, Walder Wyss Rechtsanwälte\n			\n			Urs Schenker zählt zu den
  führenden Wirtschaftsanwälten der Schweiz und verfügt über\n			profunde Einb
 licke in die Schweizer Wirtschaft. Er befürwortet die bundesrätliche Quote
 nregelung und sieht darin eine Türöffnung mit klarem Anreiz für qualifizie
 rte Frauen\, sich für Führungspositionen ins Gespräch zu bringen. So könne
  das gesamte Potenzial an Führungskräften in der Schweiz genutzt werden.\n
 		\n		\n			 \n			 \n		\n		\n			\n			Hans Hess\, dipl. Werkstoff-Ing.\, MBA\, Präsident von Swi
 ssmem und Vizepräsident economiesuisse\n			\n			Die Maschinen-\, Elektro- und Me
 tall-Industrie gilt als hochtechnologisiertes Feld mit 'traditionsgemäss' 
 nur wenigen Frauen in führenden Positionen. Was unternimmt der grösste Sch
 weizer Industrieverband Swissmem zur Förderung eines höheren Frauenanteils
 ? Und: Werden die Männer in der Branche als mögliche Türsteher und -öffner
  bewusst angesprochen?\n		\n		\n			 \n			 \n		\n		\n			\n			Zita Küng\, Moderation\n			\n			Die Juri
 stin und Organisationsberaterin Zita Küng ist Inhaberin von EQuality und V
 orstandsmitglied der Juristinnen Schweiz. Sie arbeitet als Führungskräftec
 oach für Potenzialentwicklung\, Selbstmanagement und Karrierestrategien\, 
 insbesondere in der Nachwuchsförderung von weiblichen High Potentials.\n		\n
 		\n			 \n		\n		\n			Eine Veranstaltung für\n			​Frauen und Männer in Führungsfunktionen 
 oder auf dem Weg dazu\, die sich über anstehende Veränderungen informieren
  möchten\n			​Verwaltungsratsmitglieder und CEOs\, die den Frauenanteil in ih
 rem Unternehmen erhöhen möchten oder die eine Frauenquote zu erfüllen habe
 n\n			​Consultants\, die Unternehmen bei der Besetzung von Verwaltungsratsman
 daten und Kaderpositionen unterstützen oder in ihrem Kulturwandel begleite
 n\n		\n		\n			 \n		\n		\n			Eine gemeinsame Veranstaltung von \n			BPW SWITZERLAND Business
  & Professional Women\, www.frauenanbord.ch Bank Kader Verein Zürich BKV\,
  JURISTINNEN SCHWEIZ\, Schweizer Kader Organisation SKO\n		\n		\n			 \n		\n		\n			Preis 
 \n			CHF 40    für Mitglieder BPW\, BKV\, Juristinnen Schweiz\, SKO\n			CHF 60  
   für Nicht-Mitglieder\n		\n		\n			 \n		\n		\n			Anfahrt\n			ÖV:          Tram bis Halteste
 lle Schiffbau oder Zug bis Bahnhof Zürich Hardbrücke\n			Auto:        Parkhau
 s Pfingstweid\n		\n	\n\n\n&amp\;amp\;amp\;amp\;amp\;amp\;amp\;amp\;lt\;p&amp\
 ;amp\;amp\;amp\;amp\;amp\;amp\;amp\;gt\;Diese Seite ben&amp\;amp\;amp\;amp
 \;amp\;amp\;amp\;amp\;ouml\;tigt die Unterst&amp\;amp\;amp\;amp\;amp\;amp\
 ;amp\;amp\;uuml\;tzung von Frames durch Ihren Browser. Bitte nutzen Sie ei
 nen Browser\, der die Darstellung von Frames unterst&amp\;amp\;amp\;amp\;a
 mp\;amp\;amp\;amp\;uuml\;tzt\, damit das Ticketvorverkaufs-Modul angezeigt
  werden kann.&amp\;amp\;amp\;amp\;amp\;amp\;amp\;amp\;lt\;/p&amp\;amp\;amp
 \;amp\;amp\;amp\;amp\;amp\;gt\;&amp\;amp\;amp\;amp\;amp\;amp\;amp\;amp\;lt
 \;p&amp\;amp\;amp\;amp\;amp\;amp\;amp\;amp\;gt\;Probieren Sie die XING Eve
 nts &amp\;amp\;amp\;amp\;amp\;amp\;amp\;amp\;lt\;a data-cke-saved-href=&am
 p\;amp\;amp\;amp\;amp\;amp\;amp\;amp\;quot\;https://www.xing-events.com&am
 p\;amp\;amp\;amp\;amp\;amp\;amp\;amp\;quot\; href=&amp\;amp\;amp\;amp\;amp
 \;amp\;amp\;amp\;quot\;https://www.xing-events.com&amp\;amp\;amp\;amp\;amp
 \;amp\;amp\;amp\;quot\;&amp\;amp\;amp\;amp\;amp\;amp\;amp\;amp\;gt\;online
  Registrierung&amp\;amp\;amp\;amp\;amp\;amp\;amp\;amp\;lt\;/a&amp\;amp\;am
 p\;amp\;amp\;amp\;amp\;amp\;gt\; noch heute aus.&amp\;amp\;amp\;amp\;amp\;
 amp\;amp\;amp\;lt\;/p&amp\;amp\;amp\;amp\;amp\;amp\;amp\;amp\;gt\;\n\nOnli
 ne Event Management mit der Ticketing-Lösung von XING Events\n
DTSTART:20170503T180000
DTEND:20170503T220000
LOCATION:Zürich\, Steinfels Areal\, Zürcher Kantonalbank ZKB
ORGANIZER:MAILTO:BPW Switzerland <davos@bpw.ch>
SUMMARY:Frauen an Bord - Dialog auf der Brücke
END:VEVENT
END:VCALENDAR
