BEGIN:VCALENDAR
VERSION:2.0
PRODID:-//BPW Switzerland//NONSGML kigkonsult.se iCalcreator 2.16.12//
METHOD:PUBLISH
X-MS-OLK-FORCEINSPECTOROPEN:TRUE
BEGIN:VEVENT
UID:20260422T125656CEST-24770utrD7@BPW Switzerland
DTSTAMP:20260422T105656Z
DESCRIPTION:Unsere beliebte Kerzenlichtfeier wird in diesem Jahr für einmal
  virtuell stattfinden. Wir freuen uns sehr\, dass wir einige international
 e Gäste begrüssen dürfen: Brasilien\, Nigeria und einige Überraschungsländ
 er sind mit von der Partie und wir freuen uns auf einen regen Austausch mi
 t den verschiedenen spannenden BPW. \n\nBitte haltet am Anlass eine Kerze 
 und allenfalls etwas zum Anstossen bereit\, damit wir am Ende auch noch ei
 n wenig 'Kerzenlicht-Feeling' teilen können.\n\nAnmeldung: Doodle\n\nZoom:
  Zoom-Link folgt.
DTSTART:20210224T190000
DTEND:20210224T200000
ORGANIZER:MAILTO:BPW Switzerland <davos@bpw.ch>
SUMMARY:Kerzenlichtfeier international
END:VEVENT
END:VCALENDAR
