BEGIN:VCALENDAR
VERSION:2.0
PRODID:-//BPW Switzerland//NONSGML kigkonsult.se iCalcreator 2.16.12//
METHOD:PUBLISH
X-MS-OLK-FORCEINSPECTOROPEN:TRUE
BEGIN:VEVENT
UID:20260422T125243CEST-5817xduAez@BPW Switzerland
DTSTAMP:20260422T105243Z
DESCRIPTION:Die Unterlagen für den Zirkularbeschluss habt ihr bereits via N
 ewsletter erhalten. \n\nBitte studiert und retourniert diese bis spätesten
 s Samstag\, 20. März 2021. \n\nFür den 24. März 2021 um 19:00 Uhr planen w
 ir zudem einen nächsten Zoom-Anlass. An diesem Abend dürfen wir Katrín Óla
 dóttir\, Past-President BPW Iceland\, begrüssen. Katrín wird uns an diesem
  Abend über den für das Jahr 2022 geplanten BPW European Congress in Islan
 d berichten. Ebenso ist Christine Abbühl\, die OK-Präsidentin der diesjähr
 igen Delegiertenversammmlung in Bern\, zu Gast und gibt uns weitere Inform
 ationen zum Anlass.\n\nIm Anschluss informieren wir Euch über die Resultat
 e vom diesjährigen Zirkularbeschluss und hoffen sehr\, dass es der Letzte 
 in unserem Club sein wird!\n\nBitte tragt euch hier im Doodle ein\, wenn i
 hr beim Zoom dabei sein möchtet. Die Zoom-Einladung erhaltet ihr wie immer
  kurz vorher. Wir freuen uns auf euch!
DTSTART:20210324T190000
DTEND:20210324T220000
ORGANIZER:MAILTO:BPW Switzerland <davos@bpw.ch>
SUMMARY:Mitgliederversammlung
END:VEVENT
END:VCALENDAR
