BEGIN:VCALENDAR
VERSION:2.0
PRODID:-//BPW Switzerland//NONSGML kigkonsult.se iCalcreator 2.16.12//
METHOD:PUBLISH
X-MS-OLK-FORCEINSPECTOROPEN:TRUE
BEGIN:VEVENT
UID:20260422T125819CEST-2847WGr9ZI@BPW Switzerland
DTSTAMP:20260422T105819Z
DESCRIPTION:Das eigene Unternehmen\, so gross oder klein es ist\, ist immer
  auch das eigene Lebenswerk. Fähigkeiten\, Visionen\, Wissen und Ressource
 n sind darin eingeflossen und haben zum persönlichen Erfolg geführt. Diese
 s in neue\, jüngere Hände zu übergeben\, ist keine einfache Aufgabe und st
 eht doch immer am Ende der selbstständigen Berufskarriere.  Wir beleuchten
  mit Euch diesen wichtigen Schritt aus unterschiedlichen Perspektiven: die
  persönliche Herangehensweise\, mögliche Modelle einer Nachfolgeregelung\,
  finanzielle und steuerliche Aspekte sowie die Suche nach einem Nachfolger
 \, bzw. einer Nachfolgerin.\n\nAnmeldung bis Montag 8. Februar\nZugang erf
 olgt nach Anmeldung\n\nLink zum veranstaltenden BPW Club Basel und Anmeldu
 ng\n
DTSTART:20210210T184500
DTEND:20210210T210000
LOCATION:Online
ORGANIZER:MAILTO:BPW Switzerland <davos@bpw.ch>
SUMMARY:Unternehmensnachfolge klug planen
END:VEVENT
END:VCALENDAR
