BEGIN:VCALENDAR
VERSION:2.0
PRODID:-//BPW Switzerland//NONSGML kigkonsult.se iCalcreator 2.16.12//
METHOD:PUBLISH
X-MS-OLK-FORCEINSPECTOROPEN:TRUE
BEGIN:VEVENT
UID:20260422T125655CEST-55738cKswm@BPW Switzerland
DTSTAMP:20260422T105655Z
DESCRIPTION:Opportunity unterstützt Frauen beim Ausbau ihrer Kleinunternehm
 en\, fördert ihre unternehmerische Kompetenz und hilft ihnen\, sich gegen 
 Risiken zu versichern. Kleinunternehmen schaffen Arbeitsplätze und stärken
  ganze Regionen. \n\nMikrokredite\nDrei Milliarden Menschen auf der Welt h
 aben weniger als zwei Dollar um zu überleben. Damit diese Menschen sich au
 s der Armut befreien können\, brauchen sie Kapital\, um ihre eigene und in
  die Zukunft ihrer Kinder investieren zu können.\nOpportunity internationa
 l (Schweiz) vergibt Mikrokredite an Menschen ohne regelmässiges Einkommen\
 , ohne finanzielle Sicherheiten und ohne Identifikationspapiere.\n\nWir be
 grüssen Sonja Beck\, Kommunikationsleiterin von Opportunity Schweiz.\n\nFü
 r diese Veranstaltung wird um Anmeldung gebeten. 
DTSTART:20210128T190000
DTEND:20210128T213000
LOCATION:Online via Zoom 
ORGANIZER:MAILTO:BPW Switzerland <davos@bpw.ch>
SUMMARY:Opportunity Schweiz - Mikrokredite
END:VEVENT
END:VCALENDAR
