BEGIN:VCALENDAR
VERSION:2.0
PRODID:-//BPW Switzerland//NONSGML kigkonsult.se iCalcreator 2.16.12//
METHOD:PUBLISH
X-MS-OLK-FORCEINSPECTOROPEN:TRUE
BEGIN:VEVENT
UID:20260422T125752CEST-44874ZbwSB@BPW Switzerland
DTSTAMP:20260422T105752Z
DESCRIPTION:BPW Club Baselland lädt zum Online-Referat von Sandra Jauslin\,
  BPW Baselland und Mitglied des Zentralvorstandes von BPW Switzerland! \n
 \nInnert kürzester Zeit erhältst Du ein paar Inputs\, wie Du Menschen mit 
 Deinem Auftritt überzeugen kannst. «Bei der Kommunikation hängt der Erfolg
  zu 93 Prozent davon ab\, wie etwas gesagt wird!»\n\nDer Schlüssel bist Du
  selbst und da setzen wir gemeinsam und interaktiv an. Du kannst danach mi
 t Deiner inneren Überzeugung\, Deiner Körperhaltung und der entsprechenden
  sprachlichen Umrandung Deine Botschaft erfolgreich platzieren. Kurze Tipp
 s rund um geschlechtsspezifische Machtthemen unterstützen Dich dabei weite
 r.\n\nKosten: keine\n\nAnmeldeschluss 25. Januar 2021\n\nZoom-Veranstaltun
 g\nZugang erfolgt nach Anmeldung. Link wird per Mail zugesandt.\n\nZur Anm
 eldung. 
DTSTART:20210126T193000
DTEND:20210126T210000
LOCATION:Online
ORGANIZER:MAILTO:BPW Switzerland <davos@bpw.ch>
SUMMARY:Sei es dir Wert! 
END:VEVENT
END:VCALENDAR
