BEGIN:VCALENDAR
VERSION:2.0
PRODID:-//BPW Switzerland//NONSGML kigkonsult.se iCalcreator 2.16.12//
METHOD:PUBLISH
X-MS-OLK-FORCEINSPECTOROPEN:TRUE
BEGIN:VEVENT
UID:20260422T125205CEST-2775BsZkNe@BPW Switzerland
DTSTAMP:20260422T105205Z
DESCRIPTION:Online Veranstaltung von BPW Chur\n\nAm 13. September 1931 tut 
 das Bündner Bergdorf Furna etwas\, was zuvor noch keine Gemeinde der Schwe
 iz gewagt hat: Es wählt eine Frau zur Pfarrerin. Ein Skandal\, der bis nac
 h Deutschland Schlagzeilen macht.\n\nNach ihrem Tod macht sich die Enkelin
  – Christina Caprez\, Journalistin\, Soziologin und Autorin – auf die Spur
 en der ersten Schweizer Gemeindepfarrerin. Sie stösst auf die aussergewöhn
 liche Emanzipationsgeschichte einer Frau\, die im Dorf Skihosen für Mädche
 n einführte und ihren Söhnen das Stricken beibrachte.\n\nDas Forschungspro
 jekt wurde vom Institut für Kulturforschung Graubünden unterstützt.\nIm Ra
 hmen des Projekts entstanden ein Buch\, ein Hörbuch und ein Film (Link) zu
 r illegalen Pfarrerin.\nDazu laufend Ausstellungen und Veranstaltungen.\nw
 ww.dieillegalepfarrerin.ch\n\nProgramm\n18.30   Begrüssung und Einleitung 
 durch Barbara Haller Rupf\, Vizepräsidentin BPW Club Chur\n18.35   Lesung 
 mit Bildern von Christina Caprez zum Leben von Greti Caprez-Roffler und de
 ssen Einordnung in unsere heutige Zeit.\nab 19.15   Diskussion mit der Aut
 orin\n\nEingeladen sind alle – Frauen und Männer – welche sich für die Ges
 chichte von Greti Caprez-Roffler und das Leben in Graubünden noch Mitte 20
 . Jahrhundert interessieren. Dabei lässt es die Diskussion auch offen\, üb
 er Parallelen zum hier und jetzt zu sprechen.\n\nBitte loggen Sie sich mit
  dem nachfolgendem Link in die Veranstaltung ein.\nhttps://us02web.zoom.us
 /j/86780458213?pwd=WExpMmdudWprcEpCRWllSlorV2RsZz09\n\nWir freuen uns auf 
 Sie!\n\nBPW Club Chur
DTSTART:20210210T183000
DTEND:20210210T200000
LOCATION:Online
ORGANIZER:MAILTO:BPW Switzerland <davos@bpw.ch>
SUMMARY:Die illegale Pfarrerin – Greti Caprez-Roffler (1906–1994)
END:VEVENT
END:VCALENDAR
