BEGIN:VCALENDAR
VERSION:2.0
PRODID:-//BPW Switzerland//NONSGML kigkonsult.se iCalcreator 2.16.12//
METHOD:PUBLISH
X-MS-OLK-FORCEINSPECTOROPEN:TRUE
BEGIN:VEVENT
UID:20260422T125345CEST-4562ZlEROm@BPW Switzerland
DTSTAMP:20260422T105345Z
DESCRIPTION:\n \n\nIn Zusammenarbeit mit Business Professional Women (BPW) 
 und der Abteilung für Gleichstellung und Diversität (AGL) hat die Gleichst
 ellungskommission (GSK) des VSUZH eine virtuelle Woche vom 15.02.2021 bis 
 zum 20.02.21 zum diesjährigen Equal Pay Day 2021 (EPD) auf die Beine geste
 llt.\n\nZum Auftakt findet eine Online-Podiumsdiskussion zum Thema „Equal 
 Pay Day: (Lohn-)gleichstellung auch heute noch relevant?“\n\nWas hat sich 
 im Bereich der Gleichstellung seit dem Frauenstimmrecht geändert und warum
  ist der Equal Pay Day auch heute noch relevant?\n \nDas und noch viel meh
 r diskutieren wir mit unseren Gästen:\n\n\n	\n	Claudine Esseiva\, Co-Präside
 ntin BPW Switzerland\, Partnerin bei der Kommunikationsagentur furrerhugi
 \n	\n	\n	Myriam Heidelberger-Kaufmann\, Vize-Präsidentin BPW Switzerland und 
 Arbeitsgruppe EPD\, Management im Justizvollzug\n	\n	\n	Helena Trachsel\, Lei
 terin der Fachstelle Gleichstellung Kanton Zürich\n	\n\n\n​\nUhrzeit: 18.00
  - 19.30 Uhr                   \nModeration: Angela Sarah Pape und Leonie 
 Barnsteiner von der Gleichstellungskommission des VSUZH\n\nHier geht's zur
  Veranstaltungsseite und zur Anmeldung\n \n\n\n
DTSTART:20210215T180000
DTEND:20210215T193000
LOCATION:Online
ORGANIZER:MAILTO:BPW Switzerland <davos@bpw.ch>
SUMMARY:Podiumsdiskussion zum EPD
END:VEVENT
END:VCALENDAR
