BEGIN:VCALENDAR
VERSION:2.0
PRODID:-//BPW Switzerland//NONSGML kigkonsult.se iCalcreator 2.16.12//
METHOD:PUBLISH
X-MS-OLK-FORCEINSPECTOROPEN:TRUE
BEGIN:VEVENT
UID:20260422T125308CEST-7587CjpXwu@BPW Switzerland
DTSTAMP:20260422T105308Z
DESCRIPTION:In Zusammenarbeit mit Business Professional Women (BPW) und der
  Abteilung für Gleichstellung und Diversität (AGL) hat die Gleichstellungs
 kommission (GSK) des VSUZH eine virtuelle Woche vom 15.02.2021 bis zum 20.
 02.21 zum diesjährigen Equal Pay Day 2021 (EPD) auf die Beine gestellt.\n
 \nHeute zum Thema 'Gleichstellung an Hochschulen: Schweizer Hochschulen al
 s Vorreiterinnen?“ \n\nBereits 1840 wurden erste Hörerinnen an der nur wen
 ige Jahre zuvor gegründeten Universität Zürich zugelassen. Macht das die S
 chweiz zur Vorreiterin in Sachen Gleichstellung an Hochschulen? Frauen* ma
 chen knapp mehr als die Hälfte der Studierenden an Universitäten aus. Reic
 ht das schon für die Gleichstellung\, oder welche Hürden gibt es noch zu b
 ewältigen?\n \nDas und noch viel mehr diskutieren wir mit unseren Gästen:
 \n\n\n	\n	Dr. Christiane Löwe\, Leiterin der Abteilung Gleichstellung und Di
 versität\n	\n	\n	Sandra Jauslin\, Vize-Präsidentin BPW Switzerland\, zuständi
 g für Stipendienfonds\, Mentoring Programm und Mitglieder (Uni Basel)\n	\n	
 \n	Und zwei weitere Gäste der UZH und Schweizerischer Verband der Akademike
 rinnen (SVA)\n	\n\n\n​\nUhrzeit: 18.00 - 19.30 Uhr                   \nMode
 ration: Angela Sarah Pape und Hannah Mücke von der Gleichstellungskommissi
 on des VSUZH\n\nHier geht's zur Veranstaltungsseite und zur Anmeldung\n
DTSTART:20210219T180000
DTEND:20210219T193000
LOCATION:Online
ORGANIZER:MAILTO:BPW Switzerland <davos@bpw.ch>
SUMMARY:Podiumsdiskussion zur Gleichstellung an Hochschulen
END:VEVENT
END:VCALENDAR
