BEGIN:VCALENDAR
VERSION:2.0
PRODID:-//BPW Switzerland//NONSGML kigkonsult.se iCalcreator 2.16.12//
METHOD:PUBLISH
X-MS-OLK-FORCEINSPECTOROPEN:TRUE
BEGIN:VEVENT
UID:20260422T125625CEST-8629FMUknS@BPW Switzerland
DTSTAMP:20260422T105625Z
DESCRIPTION:Aufgrund der aktuellen COVID-19 Situation findet der Clubabend 
 virtuell\, also online statt.\n \n\nDie Arbeitsgruppe EPD (Equal Pay Day) 
 diskutiert mit jungen Paaren (BPW-Frauen und ihre PartnerInnen) aus unters
 chiedlichen Berufs- und Lebenswelten zur Frage\, mit welchen Beiträgen sie
  das Morgen gestalten helfen. Sie zeigen aus ihrer Perspektive auf\, welch
 es ihre Möglichkeiten\, Chancen\, 'Kämpfe für die Sache'\, aber auch Hinde
 rnisse\, Stolpersteine und Challenges sind.\n\nEs werden Themen aus den Be
 reichen Bildung und Beruf\, Equality und gleicher Lohn sowie Individualbes
 teuerung und Beseitigung von Benachteiligungen dargestellt und mit den Gäs
 ten des Abends in 3 bis 4 Gruppen diskutiert.\n\nEveline Iannelli\, Claudi
 ne Esseiva und Myriam Holzner moderieren die Diskussions-Gruppen und freue
 n sich auf viele Teilnehmerinnen und rege Diskussionen zum Equal Pay Day 2
 021!\n\nZeitlicher Ablauf:\nEinwählen in ZOOM ab 19:00 Uhr\n19:15 Uhr: Sta
 rt und Einstimmung ins Thema\n19:20 Uhr: Blitzlicht zum Thema und Aufteilu
 ng in Gruppen\n19:30 Uhr: Inputs der Themenführer/innen und Diskussion in 
 der Gruppe\n20:15 Uhr: Zurück im Plenum und Ergebnisse aus den Diskussione
 n\n20:30 Uhr: Ende der Online-Veranstaltung\n\nAn- und Abmeldeschluss: Mon
 tag\, 15. Februar 2021\; 24:00 Uhr | Den Link zu dem ZOOM Anlass erhalten 
 Sie nach dem Anmeldeschluss per Mail zugeschickt.\n\nZur Clubwebseite und 
 Anmeldung\n \n
DTSTART:20210216T190000
DTEND:20210216T203000
LOCATION:Online
ORGANIZER:MAILTO:BPW Switzerland <davos@bpw.ch>
SUMMARY:Clubabend BPW Club Bern - EPD 2021 'Unsere Vorgängerinnen haben das
  Heute gestaltet - wir gestalten das Morgen' 
END:VEVENT
END:VCALENDAR
