BEGIN:VCALENDAR
VERSION:2.0
PRODID:-//BPW Switzerland//NONSGML kigkonsult.se iCalcreator 2.16.12//
METHOD:PUBLISH
X-MS-OLK-FORCEINSPECTOROPEN:TRUE
BEGIN:VEVENT
UID:20260422T125819CEST-56944OWmVL@BPW Switzerland
DTSTAMP:20260422T105819Z
DESCRIPTION:Wie werde ich in der Geschäftswelt sichtbar? Diese Frage stelle
 n wir uns alle immer wieder – und an diesem Abend gibt Philomena Colatrell
 a\, CEO der CSS Gruppe\, Einblick in ihre persönlichen Erfahrungen. Nach d
 em Referat gibt es dann eine Podiumsdiskussion mit einer Politikerin\, ein
 er Jung-Businessfrau und einer Neu-Firmeninhaberin – drei spannende BPW!\n
 \nDiesen Anlass wird von BPW Luzern live aus der Braui in Hochdorf zu Euch
  nach Hause gestreamt! Freut euch auf spannende Inputs und Anregungen dazu
 \, wie wir alle uns (noch) sichtbarer machen und die Spielregeln der Gesel
 lschaft und der Personalpolitik mitgestalten können!\n\nGerne begrüssen wi
 r BPW aus allen Clubs\, natürlich Interessentinnen und auch Gäste. Wir fre
 uen uns auf Euch!\n\nBitte beachtet folgende Informationen:\n\n	Ort: Der An
 lass wird digital durchgeführt (via Zoom)\n	Start: Einloggen ab 18:40\, Beg
 inn des Anlasses um 19.00 Uhr\n	Kosten: CHF 25.00 pro Person. Danke für Eur
 e Zahlung bis Fr\, 09.04.2021 auf unser Konto der LUKB / IBAN CH40 0077 82
 12 5922 7200 1 / BPW Switzerland\, Club Luzern\, 6002 Luzern\n	Link: Wird E
 uch kurz vor dem Anlass zugestellt (nach Zahlungseingang)\n\nHier geht es 
 zur Anmeldung! 
DTSTART:20210413T190000
DTEND:20210413T203000
LOCATION:Online via Zoom
ORGANIZER:MAILTO:BPW Switzerland <davos@bpw.ch>
SUMMARY:Sichtbarkeit im Beruf: Referat und Podium 
END:VEVENT
END:VCALENDAR
