BEGIN:VCALENDAR
VERSION:2.0
PRODID:-//BPW Switzerland//NONSGML kigkonsult.se iCalcreator 2.16.12//
METHOD:PUBLISH
X-MS-OLK-FORCEINSPECTOROPEN:TRUE
BEGIN:VEVENT
UID:20260422T125502CEST-3939Jz2hWJ@BPW Switzerland
DTSTAMP:20260422T105502Z
DESCRIPTION:\nMit Shared Power bietet BPW Club Bern eine Plattform für Wiss
 enstransfer und Erfahrungsaustausch in Form von digitalen Lunch Events.\n
 \nSie bringen zu diesem Mittagsaustausch vor Ihrem Gerät Ihr Lunchpaket un
 d Getränk mit.\n\nDiese Online-Veranstaltung steht unseren Mitgliedern und
  registrierten Interessentinnen offen.\n\nDie Anmeldung erfolgt via Websit
 e. Den Anmeldelink zu dem ZOOM-Anlass erhalten Sie am 30. März 2021 nach A
 nmeldeschluss per E-Mail.\n\nBei kurzfristiger Verhinderung melden Sie sic
 h bitte bei Griselda Naumann.\n \n\nJobsharing und TopSharing\, was darf i
 ch beachten und welchen Gewinn hat die Firma davon\n\n«Schatz\, rechne nic
 ht mit mir für’s Abendessen\; ich werde abends länger arbeiten für den Res
 t meines Lebens.»\n(Eric & Bill Cartoon aus der Video-Präsentation von Jul
 ia Kuark)\n\nJobsharing bietet den Firmen/Organisationen viele Vorteile un
 d für Frauen und Männer ist es die Chance sich für Lebensphasen oder ander
 e Projekte den Raum und die Zeit zu verschaffen - eine Win-Win-Lösung.\n\n
 Als Vorbereitung für den Workshop bitte\n1) Kurzvideo anschauen\nVideo -Ju
 lia Kuark on Jobsharing and TopSharing (jkk.ch)\n(linke Maustaste drücken\
 , „link öffnen“ anwählen)\n2) Bitte 1-2 Fragen über Jobsharing / TopSharin
 g formulieren und an contact@jkk.ch schicken bis 25.03.2021. Eure Fragen b
 ilden den roten Faden für den Workshop - wir freuen uns auf eine angeregte
  Diskussion!\n\nWorkshop-Leitung:\nDr. Julia Kuark\, JKK Consulting\, BPW 
 Lenzburg\; https://www.jkk.ch/\n\nInhalt des Workshops:\n\n\n	Einstieg\, Zo
 om spezifisches\, Aufwärmen (Kleingruppen)\n	Julia erzählt kurz von ihren E
 rfahrungen mit TopSharing\n	Griselda erzählt Praktisches aus ihrem Jobshari
 ng auf Kaderstufe in der Bundesverwaltung\n	Diskussion der Fragen der Teiln
 ehmenden\n\n\nDatum: Dienstag\, 30. März 2021\; 12:00 - 13:15 Uhr\nONLINE 
 Angebot per ZOOM (den Link erhalten Sie am 30. März 2021 nach Anmeldeschlu
 ss)\nAnmeldeschluss: Dienstag\, 30. März 2021\; 9 Uhr\nmax. Teilnehmerinne
 nzahl: max. 30 Teilnehmende (nach Eingang der Anmeldung)\, WLAN nötig\n\nZ
 ur Anmeldung auf der Webseite des BPW Clubs Bern.\n \n
DTSTART:20210330T120000
DTEND:20210330T131500
LOCATION:Online
ORGANIZER:MAILTO:BPW Switzerland <davos@bpw.ch>
SUMMARY:Online Shared Power - Jobsharing und TopSharing\, was darf ich beac
 hten und welchen Gewinn hat die Firma davon
END:VEVENT
END:VCALENDAR
