BEGIN:VCALENDAR
VERSION:2.0
PRODID:-//BPW Switzerland//NONSGML kigkonsult.se iCalcreator 2.16.12//
METHOD:PUBLISH
X-MS-OLK-FORCEINSPECTOROPEN:TRUE
BEGIN:VEVENT
UID:20260422T131208CEST-9513x70tgO@BPW Switzerland
DTSTAMP:20260422T111208Z
DESCRIPTION:Wer jeden Tag von zuhause aus arbeitet oder im Augenblick viel 
 zuhause ist\, wird oft müde\, die Konzentration lässt nach\, der Energiele
 vel sinkt. Aber es gibt Abhilfe!\n\nBPW Club Zürich lädt zum interaktiven 
 Zoom-Meeting!\n\nBlanca Koijch Altarac\, dipl. Polaritytherapeutin\, zeigt
  uns wie wir mit wenigen\, einfachen Uebungen in kürzester Zeit wieder mob
 il werden\, Spannungen lösen und unseren Energiefluss in Schwung bringen.
 \n\nDieses interaktive Zoom Meeting bringt uns alle wieder in Bewegung und
  hilft uns zu fokussieren und zu entspannen.\n\nBlanca hat nach einem Wirt
 schaftsstudium an der HSG lange in der Pharmabrache gearbeitet und anschli
 essend Ausbildungen im Bereich Polaritytherapie\, Yoga\, Reconnection nach
  Eric Pearl und Clearing Method nach Eric Dowsett absolviert.\n\nSie behan
 delt Menschen in Luzern und Basel von Kopf bis Fuss mit Ihren Händen\, sie
  spürt Energieblockaden auf und kann sie meist umgehend lösen. Durch die B
 ehandlung wird der Energiefluss im Körper angeregt und wieder in die richt
 ige Bahn gelenkt. Ihr Ziel ist immer die Wiederherstellung der Gesundheit 
 auf körperlicher und psychischer Ebene.\n\nWir freuen uns auf einen entspa
 nnenden Abend an dem wir alle gleich mitmachen und diese wunderbaren Uebun
 gen in den Alltag integrieren können.\n\nZum Anmeldelink\n
DTSTART:20210414T190000
DTEND:20210414T203000
LOCATION:Online via Zoom
ORGANIZER:MAILTO:BPW Switzerland <davos@bpw.ch>
SUMMARY:Clubabend BPW Zürich: Energiekick to go!
END:VEVENT
END:VCALENDAR
