BEGIN:VCALENDAR
VERSION:2.0
PRODID:-//BPW Switzerland//NONSGML kigkonsult.se iCalcreator 2.16.12//
METHOD:PUBLISH
X-MS-OLK-FORCEINSPECTOROPEN:TRUE
BEGIN:VEVENT
UID:20260422T131013CEST-3603tO2jnZ@BPW Switzerland
DTSTAMP:20260422T111013Z
DESCRIPTION:\nBPW Europe's task force Leaderhip and Lifelong Learning invit
 es all members to their second interactive workshop! \n\nDates: 28 May\, 4
  June and 11 June 2021\, 12.00h - 17.00h (CET) \n\nWhat is the workshop ab
 out?\n\nThis inspirational and practical program is designed to empower wo
 men in achieving their personal and professional goals and enhance their m
 anagement and leadership skills by means of theory\, practical exercises a
 nd shared experience. It will enable you to learn about the different aspe
 cts of leadership and develop your own personal leadership style.\n\nIs th
 is workshop for me?\n\nIt is appropriate for women in leadership positions
 \, business owners\, entrepreneurs\, start-up founders and ambitious women
  who are ready to take the next step in their professional career.\n\nMore
  details and registration on www.bpw-lll.weebly.com
DTSTART:20210528T120000
DTEND:20210528T170000
LOCATION:Online
ORGANIZER:MAILTO:BPW Switzerland <davos@bpw.ch>
SUMMARY:BPW digital leadership training for women
END:VEVENT
END:VCALENDAR
