BEGIN:VCALENDAR
VERSION:2.0
PRODID:-//BPW Switzerland//NONSGML kigkonsult.se iCalcreator 2.16.12//
METHOD:PUBLISH
X-MS-OLK-FORCEINSPECTOROPEN:TRUE
BEGIN:VEVENT
UID:20260422T130943CEST-2253W1a4oP@BPW Switzerland
DTSTAMP:20260422T110943Z
DESCRIPTION:Wir freuen uns\, mit euch gemeinsam eine Yoga-Stunde abzuhalten
 :\n\nClarina Barell\, Ayur-Yogatherapeutin\, Energiecoach und Psychotherap
 eutin führt uns durch die Stunde. \n'Mit 45 Minuten Ayur-Yoga nach der Tra
 dition von Chrischnamarkarya. Die Übungen sind durch Anpassungen und Varia
 nten individuell auf jeden zugeschnitten und wirken ganzheitlich. Für mich
  ist Yoga das tägliche Helferlein das Körper Geist und Seele bewegt und au
 sgeglichen hält.'\n\nThema: Raus aus dem Alltag\, achtsam bewegt und entsp
 annt in den Schlaf\nUhrzeit: 5. Mai 2021 07:30 PM Zürich\n\nZoom-Meeting b
 eitreten\nhttps://us02web.zoom.us/j/81330023353?pwd=ekdxQ3NIb0U5UUpYT1dYa1
 ZTRVkxUT09\n\nMeeting-ID: ‪813 3002 3353‬\nKenncode: BPW
DTSTART:20210505T193000
DTEND:20210505T203000
ORGANIZER:MAILTO:BPW Switzerland <davos@bpw.ch>
SUMMARY:BPW Yoga-Abend
END:VEVENT
END:VCALENDAR
