BEGIN:VCALENDAR
VERSION:2.0
PRODID:-//BPW Switzerland//NONSGML kigkonsult.se iCalcreator 2.16.12//
METHOD:PUBLISH
X-MS-OLK-FORCEINSPECTOROPEN:TRUE
BEGIN:VEVENT
UID:20260422T131133CEST-8108ML6cvO@BPW Switzerland
DTSTAMP:20260422T111133Z
DESCRIPTION:Gli anni più belli\n\nDer Kulturschuppen Klosters durfte seine 
 Türen auch wieder öffnen und wir nutzen kurzerhand die Gelegenheit\, einen
  kleinen\, aber feinen BPW-Anlass daraus zu machen. Informationen zum Film
  'Gli anni più belli' sowie zum Kulturschuppen Klosters findet ihr hier. 
 \nDie Bar darf ebenfalls wieder öffnen\, es müssen jedoch Masken getragen 
 werden\, ausser bei der Konsumation. Diese findet sitzend statt. \n\nDa di
 e Teilnehmerzahl nach wie vor stark beschränkt ist und wir begrenzt BPW-Pl
 ätze reservieren können\, bitten wir euch um Anmeldung so schnell wie mögl
 ich\, spätestens aber bis 07. Juni 2021 abends via Doodle. \n\nKostenpunkt
  BPW: CHF 30 / Person\, Kinoeintritt\, inkl. Apérosäckli und einem Glas We
 in. \n\nWir freuen uns auf euch!
DTSTART:20210609T200000
DTEND:20210609T213000
ORGANIZER:MAILTO:BPW Switzerland <davos@bpw.ch>
SUMMARY:Kulturschuppen Klosters Film 'Gli anni più belli'
END:VEVENT
END:VCALENDAR
