BEGIN:VCALENDAR
VERSION:2.0
PRODID:-//BPW Switzerland//NONSGML kigkonsult.se iCalcreator 2.16.12//
METHOD:PUBLISH
X-MS-OLK-FORCEINSPECTOROPEN:TRUE
BEGIN:VEVENT
UID:20260422T131143CEST-9382XVTfuG@BPW Switzerland
DTSTAMP:20260422T111143Z
DESCRIPTION:BPW-Mitglied Mimi Grass lädt zum Einführungsreferat in ihr Bäsm
 abeizli 'Hennägadä' in Klosters. Wir kommen in den Genuss eines feinen Apé
 ro-Plättlis inkl. Getränk (danke\, Mimi!). Beim gemütlichen Abend erzählt 
 uns Mimi etwas über sich selbst und ihre Reise aus Dallas Texas nach Klost
 ers. \n\nBitte beachtet: Der Anlass wurde um eine halbe Stunde vorverschob
 en\, da es am Mittwoch zwar schön\, aber eher etwas kühl sein könnte. Abma
 rsch beim Parkplatz Monbiel ist also bereits um 18:30 Uhr. Bitte denkt an 
 entsprechende Kleidung. \n\nTreffpunkt: Parkplatz Monbiel um 18.30 Uhr. Bi
 tte beachtet: Der Spaziergang zum Hennägadä dauert ca. 30 Minuten. Um 19.0
 0 Uhr startet der Anlass im Bäsmabeizli.\n\nDoodle: Bitte tragt euch bis D
 ienstagmittag\, 12:00 Uhr hier ein\, wenn ihr dabei sein möchtet.\n\nWir f
 reuen uns auf euch!\n\nBitte beachtet auch:\nBPW International benötigt ei
 n Foto von uns. Wer hat\, bitte den gelben BPW-Schal mitbringen. Es wird a
 uch welche vor Ort zur Verfügung haben. 
DTSTART:20210818T183000
DTEND:20210818T210000
ORGANIZER:MAILTO:BPW Switzerland <davos@bpw.ch>
SUMMARY:Einführungsreferat Mimi Grass - von Dallas Texas in die Bündner Ber
 ge
END:VEVENT
END:VCALENDAR
