BEGIN:VCALENDAR
VERSION:2.0
PRODID:-//BPW Switzerland//NONSGML kigkonsult.se iCalcreator 2.16.12//
METHOD:PUBLISH
X-MS-OLK-FORCEINSPECTOROPEN:TRUE
BEGIN:VEVENT
UID:20260422T131013CEST-9587jgNfcb@BPW Switzerland
DTSTAMP:20260422T111013Z
DESCRIPTION:Davoser Weisswurstschlemmen\n\nWir freuen uns sehr\, bei der Da
 voser Craft Beer Brauerei mit euch hinter die Kulissen zu schauen!\n\nAnkü
 ndigungstext der Davoser Craft Beer Brauerei:\n'Während du die Davoser Bra
 uerei kennen lernst\, frischen wir dein Bierwissen auf und degustieren gem
 einsam unsere handwerklich hergestellten Biere. Anschliessend verwöhnen wi
 r dich mit hausgemachten Davoser Weisswürsten und Brezeln vom lokalen Bäck
 er. Die Führung dauert ca. 2h und wird auf Voranmeldung ab 6 Personen in E
 nglisch oder Deutsch angeboten.'\n\nPreis: 40 CHF / Person\nAnmeldung bis 
 spätestens Montagabend\, 19. Juli 2021 hier via Doodle. 
DTSTART:20210721T193000
DTEND:20210721T220000
ORGANIZER:MAILTO:BPW Switzerland <davos@bpw.ch>
SUMMARY:Weisswurst und Bier bei der Davoser Craft Beer Brauerei
END:VEVENT
END:VCALENDAR
