BEGIN:VCALENDAR
VERSION:2.0
PRODID:-//BPW Switzerland//NONSGML kigkonsult.se iCalcreator 2.16.12//
METHOD:PUBLISH
X-MS-OLK-FORCEINSPECTOROPEN:TRUE
BEGIN:VEVENT
UID:20260422T130845CEST-4586MPAWmb@BPW Switzerland
DTSTAMP:20260422T110845Z
DESCRIPTION:Wann: Montag\, 1. November 2021 \nWo: Hockey Stadion Eingang Sü
 d\, Apéro 18.45 Uhr \n \nHockey Stadion Restaurant 1921\, Abendessen ca. 1
 9.30 Uhr \nKosten: Menü Fleisch CHF 75.00/Person Menü Vegi CHF 70.00/Perso
 n \nIn den Kosten sind Apéro\, ein 3-Gang Menü sowie Wasser und Kaffee inb
 egriffen. \nAlkoholische Getränke sind nicht inkludiert. \n\nBitte gebt be
 i der Anmeldung eure Koordinaten und den Menüwunsch an: Anmeldung direkt b
 ei Barbara Gassler.\n\n 
DTSTART:20211101T184500
DTEND:20211101T191500
ORGANIZER:MAILTO:BPW Switzerland <davos@bpw.ch>
SUMMARY:5-er Treff der Service-Clubs Davos Klosters
END:VEVENT
END:VCALENDAR
