BEGIN:VCALENDAR
VERSION:2.0
PRODID:-//BPW Switzerland//NONSGML kigkonsult.se iCalcreator 2.16.12//
METHOD:PUBLISH
X-MS-OLK-FORCEINSPECTOROPEN:TRUE
BEGIN:VEVENT
UID:20260422T130942CEST-9200btL68A@BPW Switzerland
DTSTAMP:20260422T110942Z
DESCRIPTION:Am Dienstag\, 26. Oktober 2021\, findet die 14. Ausgabe des Bus
 inesstags für Frauen in Vaduz statt. Die Tagung bietet inspirierende Impul
 se und praxisorientierte Inhalte mit hochkarätigen Referaten\, interessant
 en Workshops und attraktiven Networking-Möglichkeiten. Der Businesstag für
  Frauen ist der zentrale Treffpunkt für Entscheidungsträgerinnen\, Unterne
 hmerinnen und berufstätige Frauen und vernetzt jeweils mehrere hundert Tei
 lnehmerinnen und Teilnehmer.\n\nProgrammablauf am Businesstag für Frauen\n
  \n13.00 Uhr: Workshops (optional)\n- Business-Speed-Dating - BPW Rheintal
 \n- Schmerztherapie und Genderaspekte - Landesspital Liechtenstein\n- Erfo
 lgreiches Netzwerken - Women in Business Netzwerk\n- Digital Leadership - 
 Universität St.Gallen\n\n15.00 Uhr Begrüssung\nManuel Frick\, Regierungsra
 t des Fürstentums Liechtenstein\n\n15.10 Uhr Talk 'Im Dienste von Politik 
 und Diplomatie'\nUrsula Plassnik\, ehemalige österreichische Aussenministe
 rin\n\n15.40 Uhr Flash 'Frauen in Führungspositionen'\nPrinzessin Nora von
  und zu Liechtenstein\, IOC-Mitglied\n\n16.00 Uhr Referat 'Unbewusste Denk
 muster bewusst machen'\nSandra-Stella Triebl\, Buchautorin und Verlegerin
 \n\n16.30 Uhr Erfrischungspause\n\n17.10 Uhr Talk\nJasmin Staiblin\, Top-M
 anagerin und Verwaltungsrätin\n\n17.40 Uhr Referat 'Female Power in Tech-B
 erufen'\nPetra Ehmann\, Vorstandsmitglied von We Shape Tech\n\n18.00 Uhr V
 erleihung des LLB-Businesstag-Awards\nNatalie Flatz\, Geschäftsleitungsmit
 glied der Liechtensteinischen Landesbank\n\n18.30 Uhr Netzwerk-Apéro\n\nMo
 deration: Monika Schärer\n\nWeitere Informationen sowie die Anmeldemöglich
 keiten findet ihr hier.
DTSTART:20211026T080000
DTEND:20211026T203000
ORGANIZER:MAILTO:BPW Switzerland <davos@bpw.ch>
SUMMARY:Businesstag in Vaduz
END:VEVENT
END:VCALENDAR
