BEGIN:VCALENDAR
VERSION:2.0
PRODID:-//BPW Switzerland//NONSGML kigkonsult.se iCalcreator 2.16.12//
METHOD:PUBLISH
X-MS-OLK-FORCEINSPECTOROPEN:TRUE
BEGIN:VEVENT
UID:20260422T131312CEST-9234fmjC3D@BPW Switzerland
DTSTAMP:20260422T111312Z
DESCRIPTION:Wir freuen uns\, auch in diesem Jahr wieder bei Michaela Wolf i
 n der Sport-Lodge Klosters (Doggilochstrasse 36) das traditionelle 'Der Vo
 rstand kocht' abhalten zu dürfen. Danke dir\, liebe Michaela\, für die Gas
 tfreundschaft!\n\nGerne könnt ihr euch hier anmelden: Doodle\n\nKosten: CH
 F 50.00 pro Person\, welche vollumfänglich an unser Spendenprojekt gehen.
 \nMenü: Es gibt ein feines Raclette mit Beilagen. \n\nBitte beachtet: Auch
  dieses Jahr veranstalten wir wieder einen Weihnachtsmarkt zugunsten des S
 pendenprojekts. Wer etwas zu verkaufen hat\, darf dies gerne mitbringen. B
 esonders beliebt sind jeweils selbstgemachte/hergestellte/gebackene Waren.
  Diese werden ausgelegt und jede(r) kann kaufen\, was er gerne möchte. 
DTSTART:20211124T190000
DTEND:20211124T220000
ORGANIZER:MAILTO:BPW Switzerland <davos@bpw.ch>
SUMMARY:Der Vorstand kocht
END:VEVENT
END:VCALENDAR
