BEGIN:VCALENDAR
VERSION:2.0
PRODID:-//BPW Switzerland//NONSGML kigkonsult.se iCalcreator 2.16.12//
METHOD:PUBLISH
X-MS-OLK-FORCEINSPECTOROPEN:TRUE
BEGIN:VEVENT
UID:20260422T130835CEST-2348u4WU0X@BPW Switzerland
DTSTAMP:20260422T110835Z
DESCRIPTION:
DTSTART:20211217T190000
DTEND:20211217T220000
ORGANIZER:MAILTO:BPW Switzerland <davos@bpw.ch>
SUMMARY:Traditionelles Weihnachtsessen (ABGESAGT)
END:VEVENT
END:VCALENDAR
