BEGIN:VCALENDAR
VERSION:2.0
PRODID:-//BPW Switzerland//NONSGML kigkonsult.se iCalcreator 2.16.12//
METHOD:PUBLISH
X-MS-OLK-FORCEINSPECTOROPEN:TRUE
BEGIN:VEVENT
UID:20260422T131116CEST-5432cL3u8I@BPW Switzerland
DTSTAMP:20260422T111116Z
DESCRIPTION:Das Jahr 2020 brach alle Rekorde\, wenn es um Datenverluste bei
  Sicherheitsverletzungen und die schiere Anzahl von Cyberangriffen auf Unt
 ernehmen\, Regierungen und Einzelpersonen ging. 80% aller Cyberangriffe be
 ginnen mit der Manipulation einer Einzelperson. Die Schweiz bleibt von die
 sen Angriffen nicht verschont. \nOnlineshops verzeichneten in der Coronapa
 ndemie Rekordumsätze\, während immer mehr Menschen ihren Einkauf vor Ort i
 n die digitale Welt verschieben. Wie können Unternehmen ihr digitales Erle
 bnis auf die individuellen Kundenbedürfnisse gestalten\, um im wachsenden 
 Wettbewerb konkurrenzfähig zu bleiben?\nWas bedeutet Beeinflussung? Und wi
 e wird sie sowohl gutwillig als auch bösartig eingesetzt. \n\nZu den Refer
 enten:\n\nJanin Siroglavic\nJanin arbeitet zur Zeit für AXA als Online Mar
 keting Manger. Davor arbeitete sie bei Kudelski Security als EMEA Channel 
 Partnership & Marketing Specialist.\nIhre berufliche Karriere begann sie i
 n verschiedenen Marketing Positionen bei Microsoft\, Tesla und Swisscom.\n
 \nAlexander Scholten\nAlexander arbeitet zur Zeit bei der Cetratus AG als 
 CTO. Cetratus AG bietet unter anderem Cyber Security Lösungen für KMU an. 
 Davor hatte er bei Credit Suisse\, MSF Partners\, Kudelski Security und Sw
 isscard verschiedene Cyber Incident Response/Management Postitionen inne. 
 Seine berufliche Karriere nimmt Ihren Anfang beim Centre of Mathematics an
 d Compter Science (CWI)\, wo er zuerst als System Administrator arbeitete.
 \n\nOrt & Zeit: Zoom\, 19:30 Uhr. Der Zoom-Link folgt kurz vor dem Anlass 
 über unsere internen Kanäle.\nAnmeldung: via Doodle --> AUFGEPASST! Am Anl
 ass können auch eure Freunde und Bekannten virtuell teilnehmen. Wir bitten
  um Anmeldung! \n 
DTSTART:20210929T193000
DTEND:20210929T220000
LOCATION:Zoom
ORGANIZER:MAILTO:BPW Switzerland <davos@bpw.ch>
SUMMARY:Cyber-Kriminalität & Personalisierung im modernen Marketing
END:VEVENT
END:VCALENDAR
