BEGIN:VCALENDAR
VERSION:2.0
PRODID:-//BPW Switzerland//NONSGML kigkonsult.se iCalcreator 2.16.12//
METHOD:PUBLISH
X-MS-OLK-FORCEINSPECTOROPEN:TRUE
BEGIN:VEVENT
UID:20260422T131116CEST-8177bIUv1V@BPW Switzerland
DTSTAMP:20260422T111116Z
DESCRIPTION:Wir freuen uns\, mehr über unsere liebe Luzia zu erfahren!\n\nT
 reffpunkt: 19:00 Uhr Hotel Kulm Wolfgang\nMenü:\nBlattsalat mit Ei\nZürche
 r Geschnetzeltes mit Rösti\nApfelküchlein mit Vanillesauce\nPreis Fr. 43.5
 0\n\noder Vegivariante:\n\nzum Apero ein Glas Weisswein\nBlattsalat mit Ei
  \nPilzravioli \nApfelküchlein mit Vanillesauce \nPreis Fr. 34.50\n\nBitte
  tragt euren Menüwunsch entsprechend im Doodle ein. Diesen findet ihr hier
 . Anmeldeschluss ist Montag\, 25. Oktober 2021.
DTSTART:20211027T190000
DTEND:20211027T213000
ORGANIZER:MAILTO:BPW Switzerland <davos@bpw.ch>
SUMMARY:Einführungsreferat Luzia Schär
END:VEVENT
END:VCALENDAR
