BEGIN:VCALENDAR
VERSION:2.0
PRODID:-//BPW Switzerland//NONSGML kigkonsult.se iCalcreator 2.16.12//
METHOD:PUBLISH
X-MS-OLK-FORCEINSPECTOROPEN:TRUE
BEGIN:VEVENT
UID:20260422T131111CEST-13226UV3Ep@BPW Switzerland
DTSTAMP:20260422T111111Z
DESCRIPTION:\nDer Verband Business & Professional Women Club Ticino freut s
 ich\, Sie zur Foto-Wanderausstellung BPW Experience21 einzuladen\, die die
  wichtigsten Städte des Tessins bereisen wird:\n\n▪ Mendrisio Samstag\, 4 
 September 2021 Piazzale de La Filanda\n▪ Lugano Samstag\, 11 September 202
 1 Patio Palazzo Civico - Piazza Riforma\n▪ Locarno Samstag\, 18 September 
 2021 Largo Franco Zorzi - vor dem Warenhaus Globus\n▪ Bellinzona Samstag\,
  25 September 2021 Piazza del Sole\n\nWeitere Informationen\n \n\n\n
DTSTART:20210904T000000
DTEND:20210925T235900
LOCATION:Ticino 
ORGANIZER:MAILTO:BPW Switzerland <davos@bpw.ch>
SUMMARY:BPW Experience 21 Ticino
END:VEVENT
END:VCALENDAR
