BEGIN:VCALENDAR
VERSION:2.0
PRODID:-//BPW Switzerland//NONSGML kigkonsult.se iCalcreator 2.16.12//
METHOD:PUBLISH
X-MS-OLK-FORCEINSPECTOROPEN:TRUE
BEGIN:VEVENT
UID:20260422T125527CEST-1929InEsev@BPW Switzerland
DTSTAMP:20260422T105527Z
DESCRIPTION:Annarös lädt uns zu sich nach Schiers ein in ihre TCM Praxis – 
 Therapie am Gleis zu einem Abend unter dem Titel 'Mit wenig Nadeln - viel 
 bewegen'. Ihr Thema ist 'Verbindung von Ost und West mit feiner Nadeltechn
 ik\, zur Verbesserung der Lebensqualität'.\nNach einem Apéro wird sie sich
  uns vorstellen und uns anschliessen eine praktische Anleitung geben. Gefo
 lgt wird diese von einer Führung durch die Praxis. Ausserdem wird sie eine
 n Gemüsecurry und Reis zusammen mit einem Salat vorbereiten. Zum Dessert e
 rwarten uns Fruchtspiessli und begleitet wird das Ganze von Weisswein\, Ro
 twein und evtuell Kraftwein. \nUnkostenbeitrag 20 Franken pro Person.\n\nD
 a sich die Praxis unmittelbar beim Bahnhof befindet\, schlägt uns Annarös 
 die Reise mit dem Zug vor. \nAb Davos fährt er um 18.02 Uhr\, ab Klosters 
 um 18.31 Uhr und ist genau um 19 Uhr in Schiers. \nFür die Rückreise fährt
  um 22.01 Uhr ein Zug ab Schiers\, der 23.05 in Davos Platz ankommt.\n\nDe
 n Autofahrerinnen gibt sie diese Anleitung: 'Kurz vor dem Bahnhof vor dem 
 Blumenladen Scabiosa rechts\, dann nach 50 Metern links zum rosa Haus am B
 ahnhof.\nBitte bei 'Physio' parkieren. Ich bin im 1. Stock in der Physiopr
 axis 'Therapie am Gleis' zu finden.'\n\nAnmeldung\n\n \n
DTSTART:20220817T190000
DTEND:20220817T220000
ORGANIZER:MAILTO:BPW Switzerland <davos@bpw.ch>
SUMMARY:Einführungsreferat Annarös Zentner
END:VEVENT
END:VCALENDAR
