BEGIN:VCALENDAR
VERSION:2.0
PRODID:-//BPW Switzerland//NONSGML kigkonsult.se iCalcreator 2.16.12//
METHOD:PUBLISH
X-MS-OLK-FORCEINSPECTOROPEN:TRUE
BEGIN:VEVENT
UID:20260422T125338CEST-5842F6K9i8@BPW Switzerland
DTSTAMP:20260422T105338Z
DESCRIPTION:\nBPW Club Vaud und BPW Switzerland freuen sich ausserordentlic
 h\, alle BPW und Gäste anlässlich der Delegiertenversammlung 2022 und zum 
 75-jährigen Jubiläum von BPW Switzerland nach Lausanne ins Hotel Aquatis A
 quarium Vivarium einzuladen.\n\nWir freuen uns auf ein funkelndes Wochenen
 de!\n\n\n\nEin ganz herzliches Danke an unsere Sponsoren\n\n\n\n\n \n\n\nU
 nterkunft und Location\n\nAm Veranstaltungsort\, im Hotel Aquatis Aquarium
  Vivarium sind Zimmer zu Spezialtarifen exklusiv für Teilnehmende der Dele
 giertenversammlung reserviert. Detailinformationen...\n\n\n\n\nFreitag\, 1
 0. Juni 2022\, Alumnae meeting\n\nEin Treffen für aktuelle und ehemalige C
 lubpräsidentinnen\, aktuelle und ehemalige Mitglieder des Zentralvorstands
  und Past Presidents von BPW Switzerland.\n\nDieses traditionsreiche Treff
 en am Freitagabend verspricht für die Teilnehmerinnen ein „walk down the m
 emory lane“\, steht es doch ganz im Zeichen der letzten 75 Jahre BPW Switz
 erland\, den Anekdoten\, Geschichten und Erfahrungen der ehemaligen Präsid
 entinnen von BPW Switzerland. Gemeinsam blicken wir zurück\, aber auch in 
 die Zukunft von BPW Switzerland und den Frauen in der Schweiz.\n\nDetailin
 formationen und Anmeldung...\n\n\n\n\nSamstag\, 11. Juni 2022\n\nAm Samsta
 gvormittag finden Workshops zu spannenden Themen statt\, an welchen alle B
 PW\, Interessent:innen und Gäste teilnehmen dürfen. Am Nachmittag beginnt 
 der „offizielle Teil“ des Wochenendes: Die Delegiertenversammlung von BPW 
 Switzerland. Der Zentralvorstand von BPW Switzerland wird über die Projekt
 e des vergangenen Jahres berichten und die Delegierten stimmen über die tr
 aktandierten Geschäfte ab.\n\nab 08.30 Uhr            Registrierung und Be
 grüssungskaffee\n10 Uhr bis 12 Uhr    Workshops\n12 Uhr bis 14 Uhr    Lunc
 h mit Buffet\n14 Uhr bis 17 Uhr    Delegiertenversammlung BPW Switzerland
 \n18.30 Uhr                 Apéro im Aquarium\, exklusiv für BPW geöffnet
 \n20.00 Uhr                 Jubiläumsdinner 75 Jahr BPW Switzerland im Res
 taurant le Piranha (Dresscode: elegant)\n\n\n\n\nPartner:innenprogramm\n\n
 Am Samstag den 12. Juni 2022 findet ein Partner:innenprogramm statt.\n\nPi
 ckup beim Hotel um 11.30 Uhr durch Gruppenleitung Lausanne Tourisme.\n\nGe
 führte Stadtbesichtigung (Transport mit öffentlichen Verkehrsmitteln)\n\nB
 runch im TOM café\, dem Restaurant des Olympischen Museums (Auswahl an Vor
 speisen zum Teilen\, Hauptgericht\, Auswahl an Desserts zum Teilen)\n\nAb 
 ca. 14.30 Uhr Geführte Tour im Olympischen Museum\n\nRückkehr ins Hotel Aq
 uatis um 16 Uhr\n\nPartner:innen sind ausserdem herzlich willkommen am Jub
 iläumsdinner teilzunehmen. Dieses kann auch einzeln und unabhängig vom Par
 tner:innenprogramm gebucht werden. \n\n\n\n\nWichtig zu wissen:\n\n\n	\n	Neu
  ist die Anmeldung für unser Wochenende der Delegiertenversammlung mit ein
 em Ticketsystem realisiert. Damit stellen Sie sich ihr Programm individuel
 l zusammen und bezahlen bequem per Kreditkarte\, Twint oder wie bisher auf
  Rechnung. Nach der Zahlung erhalten Sie das Ticket elektronisch. Aus dies
 em Grund müssen für Partner:innen eigene Tickets gelöst werden.\n	\n	\n	Die A
 nmeldung für die verschiedenen Veranstaltungspackages ist geschlossen. Ab 
 sofort kann nur noch die der Besuch der Delegiertenversammlung gebucht wer
 den ohne Konsumation\, Rahmen- oder Partnerinnenprogramm. Anmeldungen nehm
 en wir per Mail an info@bpw.ch entgegen.\n	\n	\n	Die Anmeldung ist verbindlic
 h. Bei einer Stornierung nach dem 20. Mai 2022 wird Ihnen eine Stornogebüh
 r von CHF 50.00 in Rechnung gestellt. Bei einer Stornierung nach dem 6. Ju
 ni oder bei Nichterscheinen wird Ihnen die gesamte Anmeldegebühr in Rechnu
 ng gestellt.\n	\n	\n	Ab dem 6. Juni kann nur noch der Besuch der Delegiertenv
 ersammlung gebucht werden\, ohne Konsumation\, Rahmen- oder Partner:innenp
 rogramm.\n	\n	\n	Kurzfristige\, kleinere Programmänderungen sind vorbehalten.
 \n	\n\n\n
DTSTART:20220610T000000
DTEND:20220611T235900
LOCATION:Lausanne
ORGANIZER:MAILTO:BPW Switzerland <davos@bpw.ch>
SUMMARY:Delegierten-Versammlung 2022 und Jubiläum BPW Switzerland
END:VEVENT
END:VCALENDAR
