BEGIN:VCALENDAR
VERSION:2.0
PRODID:-//BPW Switzerland//NONSGML kigkonsult.se iCalcreator 2.16.12//
METHOD:PUBLISH
X-MS-OLK-FORCEINSPECTOROPEN:TRUE
BEGIN:VEVENT
UID:20260420T154438CEST-0126Sx8SMB@BPW Switzerland
DTSTAMP:20260420T134438Z
DESCRIPTION:\nEinladungsflyer BPW Club Uri mit allen relevanten Information
 en um die HK 2022 \n\nTagesprogramm\, 5. November 2022\n\n9 bis 9.45 Uhr  
               Eintreffen und Registration\,\n                             
          an der Réception des Radisson Blu Hotel Reussen\n                
                       Begrüssungskaffee im Foyer der Andermatt Konzerthall
 e\n\n9.45 bis 10 Uhr              Begrüssung durch den BPW Club Uri in der
  Andermatt Konzerthalle\n                                      Grusswort d
 urch die Urner Ständerätin Dr. Heidi Z’graggen\n\n10 bis 12.30 Uhr        
      Nationale Herbstkonferenz BPW Switzerland\n\n12.30 bis 14 Uhr        
      Lunch im Restaurant Spun\n\n14.15 bis 17 Uhr             Nachmittagsp
 rogramm in der Andermatt Konzerthalle\n\n                                 
        Kurzfilm\n\n                                        Impulsreferate
 \n\n                                        Doris Russi Schurter\, Unterne
 hmerin\n                                        Filomena Russo\, Begleitun
 g psychisch Betroffener\n                                        Rita Chri
 sten\, Präsidentin des Schweizerischen Bergführerverbands\n\n             
                            Podiumsdiskussion\n                            
             mit Moderation durch Elisabeth Fähndrich\, BPW Club Uri\n\nJub
 iläumsabend\n\nBPW-Mitglieder und ihre Partner oder Partnerinnen sowie Gäs
 te sind herzlich eingeladen\, den 25. Geburtstag von BPW Club Uri mitzufei
 ern.\n\nDresscode                        sportlich-elegant\n              
                            Umkleidemöglichkeiten in der Spa-Garderobe des 
 Radisson Blu Hotel\n\n18 bis 18.45 Uhr               Apéro im Foyer der An
 dermatt Konzerthalle\n\n19 bis 23 Uhr                    Jubiläumsdinner i
 n der Andermatt Konzerthalle\n                                         mit
  kulturellen Überraschungen\n\nAb 23 Uhr                         Young BPW
  Girls Night Out für Young BPW und alle Interessierten\n                  
                         Organisiert durch Sheerah Kim\, Young Representati
 ve BPW Switzerland\n                                          Alle Informa
 tionen hier\n \n\nKosten und Anmeldung\n\nPreise pro Person\nHerbstkonfere
 nz mit Lunch (inkl. Mineralwasser und Kaffee)\, Nachmittagsprogramm\nCHF 1
 35.-\n\nJubiläumsdinner (inkl. Apéro\, Mineralwasser und Kaffee)\nCHF 105.
 -\n\nHerbstkonferenz\, Lunch\, Nachmittagsprogramm und Jubiläumsdinner\nCH
 F 235.-\n \n\nOnline-Anmeldung\n\n\nDie Anmeldung ist verbindlich. Bei Abm
 eldungen bis 30. September 2022 wird eine Stornierungsgebühr von CHF 30 pr
 o Person in Rechnung gestellt. Nach diesem Zeitpunkt oder bei fehlender Ab
 meldung wird die gesamte Teilnahmegebühr fällig.\n\nAm Veranstaltungstag g
 elten die aktuellen Covid19-Pandemie-Massnahmen des Bundes beziehungsweise
  des Kantons Uri.\n\nAnmeldeschluss ist der 28. Oktober 2022 um 20 Uhr. \n
 \nInformationen zur Anreise und Unterkunft in Andermatt finden sich im Ein
 ladungsflyer. \n\nBPW Club Uri und BPW Switzerland sind gerne für Sie da\n
 \nBei Fragen zum Anlass kontaktieren Sie BPW Club Uri am besten per E-Mail
 : info@bpw-uri.ch. Bei Fragen zur Anmeldung kontaktieren Sie bitte BPW Swi
 tzerland unter info@bpw.ch.\n\n \n\n\n\n\nHerzlichen Dank an die Sponsoren
 !\n\n\n\n\n \n\n\n\n\n \n
DTSTART:20221105T000000
DTEND:20221105T235900
LOCATION:Andermatt
ORGANIZER:MAILTO:BPW Switzerland <davos@bpw.ch>
SUMMARY:Herbstkonferenz und 25-Jahr-Jubiläum BPW Club Uri
END:VEVENT
END:VCALENDAR
