BEGIN:VCALENDAR
VERSION:2.0
PRODID:-//BPW Switzerland//NONSGML kigkonsult.se iCalcreator 2.16.12//
METHOD:PUBLISH
X-MS-OLK-FORCEINSPECTOROPEN:TRUE
BEGIN:VEVENT
UID:20260422T125526CEST-6111cTzDU3@BPW Switzerland
DTSTAMP:20260422T105526Z
DESCRIPTION:\nHabt ihr als Kind auch Comics gelesen und euch vorgestellt\, 
 ihr hättet Superkräfte wie die Held:innen darin? Wer sind eure persönliche
 n Held:innen in eurem Leben – seien sie aus Büchern\, Filmen oder aus eure
 m Umfeld?\n\nDer Duden definiert Heldin als „besonders tapfere\, opfermüti
 ge Frau\, die sich für andere einsetzt».\n\nBei aller Bewunderung vergesse
 n wir jedoch oftmals\, dass wir selbst für das Leben anderer sicherlich au
 ch Heldinnen sind. Und vor allem: Dass wir in erster Linie Heldinnen für u
 ns selbst sein und für uns selbst einstehen sollen.\n \n\n'Sei die Heldin 
 deines eigenen Lebens!'\n\nUnter diesem Titel findet am 23. und 24. Septem
 ber 2022 die BPW DACH-Konferenz statt. Mit inspirierenden Key Notes\, Work
 shops und einem abwechslungsreichen Rahmenprogramm.\n \n\nFreitag den 23. 
 September\n\n17:30 Uhr    Für alle\, die gerne gemeinsam zum Textilmuseum 
 gehen möchten:\n                    Treffpunkt in der Lobby des Hotels Wal
 halla\n                    (Alle anderen treffen sich direkt um 18 Uhr im 
 Textilmuseum St. Gallen)\n\n17:40 Uhr     Gemeinsamer Spaziergang zum Text
 ilmuseum St. Gallen (Circa 4 Minuten Fussweg) \n\n18.00 Uhr     Beginn Füh
 rung im Textilmuseum St. Gallen (Adresse und Wegbeschreibung hier)\n      
                Anschliessend Apéro Riche im Hotel Dom St. Gallen\n\nSamsta
 g den 24. September - Alle Infos zum Programm \n\nKonferenz-Location: Hote
 l Walhalla\, St. Gallen \n\n09.00 Uhr Begrüssung\n09.15 Uhr Impulsreferate
 \n12.00 Uhr Networking Lunch\n13.30 Uhr Workshops\n16.35 Uhr Gemeinsamer A
 bschluss\n18.30 Uhr Abendprogramm\n\nHier findet ihr alle Infos zum Progra
 mm.\n\n\nWir freuen uns\, euch im September in St. Gallen begrüssen zu dür
 fen.\n \n\nMöglichkeiten zur Unterkunft und Preise\n\nEs wird um Anmeldung
  bis zum 31. August 2022 gebeten. Jede Anmeldung ist verbindlich. Eine Sto
 rnierung der Anmeldung ist bis zum 23. August 2022 möglich.\n\nBitte melde
 t euch im Fall einer Absage bei der Geschäftsstelle von BPW Switzerland un
 ter info@bpw.ch .\n \nHerzlichen Dank an die Sponsoren!\n\n\n\nEbenfalls e
 in grosses Danke geht an:\n\nAppenzeller Käse\nBPW Club Wil\nCoiffure Eric
 a \nFlawa AG\nHotel Hof Weissbad\nMosterei Möhl AG\nNova Taxi \nPKZ \nScan
 ia Schweiz \nStehr Cosmetics AG\n\nDie Anmeldung ist geschlossen. Wer sich
  gerne nachträglich anmelden möchte\, schreibt bitte eine Email an info@bp
 w.ch\n\n
DTSTART:20220923T000000
DTEND:20220925T235900
LOCATION:St. Gallen\, Schweiz
ORGANIZER:MAILTO:BPW Switzerland <davos@bpw.ch>
SUMMARY:DACH-Tagung 2022
END:VEVENT
END:VCALENDAR
