BEGIN:VCALENDAR
VERSION:2.0
PRODID:-//BPW Switzerland//NONSGML kigkonsult.se iCalcreator 2.16.12//
METHOD:PUBLISH
X-MS-OLK-FORCEINSPECTOROPEN:TRUE
BEGIN:VEVENT
UID:20260422T125819CEST-0066WHt4wn@BPW Switzerland
DTSTAMP:20260422T105819Z
DESCRIPTION:Es stehen 30 Tickets zum Preis von 42 Franken bereit. Partner s
 ind willkommen.\nInzwischen sind die für die BPW Davos Klosters reserviert
 en Tickets ausverkauft. Wer sich jetzt noch für die Teilnahme entscheidet\
 , muss sich über die reguläre Webseite einen Eintritt besorgen.\n\n\nDas T
 heaterstück findet Uf Christlisch\, Talbachstrasse 4\, Klosters statt.\nDe
 r Start ist um 20.15 Uhr\, die BPW treffen sich um 19.45 h am Eingang zum 
 Parkplatz Alte Eisbahn. \n\nMehr zur Aufführung
DTSTART:20220719T200000
DTEND:20220719T220000
ORGANIZER:MAILTO:BPW Switzerland <davos@bpw.ch>
SUMMARY:'ünsches Hüschi'
END:VEVENT
END:VCALENDAR
