BEGIN:VCALENDAR
VERSION:2.0
PRODID:-//BPW Switzerland//NONSGML kigkonsult.se iCalcreator 2.16.12//
METHOD:PUBLISH
X-MS-OLK-FORCEINSPECTOROPEN:TRUE
BEGIN:VEVENT
UID:20260422T112614CEST-7145bogUCb@BPW Switzerland
DTSTAMP:20260422T092614Z
DESCRIPTION:Mittwoch\, 23. März 2011\, 19.30 Uhr\, Turmhotel Victoria\, Dav
 os Dorf\n\n\n\nDie Einladungen mit der Traktandenliste und mit den Unterla
 gen sind den Mitgliedern per Post zugeschickt worden. Sie stehen im Member
 bereich (Services - Downloads - Community) ebenfalls zum Download zur Verf
 ügung.\n\nDer Vorstand dankt für pünktliches Erscheinen\, die Sitzung begi
 nnt um 19.30h.\nInteressentinnen sind herzlich willkommen\, haben aber kei
 n Stimmrecht.\n\nIm Anschluss an die Vereinsgeschäfte:\nBündnerspezialität
 en vom Buffet\nCHF 25.- p.P. plus Getränke\n\n \nAnmeldungen bis Montag\, 
 21. März 2011\nper Mail oder online\n
DTSTART:20110323T193000
DTEND:20110323T223000
LOCATION:Davos Platz\, Turmhotel Victoria
ORGANIZER:MAILTO:BPW Switzerland <davos@bpw.ch>
SUMMARY:55. Mitgliederversammlung
END:VEVENT
END:VCALENDAR
