BEGIN:VCALENDAR
VERSION:2.0
PRODID:-//BPW Switzerland//NONSGML kigkonsult.se iCalcreator 2.16.12//
METHOD:PUBLISH
X-MS-OLK-FORCEINSPECTOROPEN:TRUE
BEGIN:VEVENT
UID:20260422T125222CEST-332103KU2w@BPW Switzerland
DTSTAMP:20260422T105222Z
DESCRIPTION:Die Tagung widmet sich den Anliegen berufstätiger Frauen und bi
 etet erneut hochkarätige Referentinnen\, informative Workshops und attrakt
 ive Networking-Möglichkeiten. Hauptreferentinnen sind Simona Scarpaleggia\
 , Beraterin und ehemalige CEO Ikea Schweiz\, Petra Jenner\, ehemalige Chef
 in Microsoft Schweiz und heute in leitender Funktion bei Salesforce tätig\
 , Gerlinde Manz-Christ\, Coach und ehemalige Diplomatin\, sowie Giada Ilar
 do\, Gründerin und Inhaberin einer Tattoo-Kette. Die Moderation übernimmt 
 wiederum Monika Schärer. Zum Abschluss der Tagung wird zum 6. Mal der LLB-
 Businesstag-Award an eine inspirierende Vorbildpersönlichkeit verliehen.\n
 \nAlle Infos und das Anmeldeformular gibt es direkt auf www.businesstag.li
  oder via die Webseite des Club Rheintal.\n\nBPW Davos Klosters bildet Fah
 rgemeinschaften für die Reise nach und von Vaduz. Wer sich beteiligen möch
 te schaut hier\n 
DTSTART:20221027T150000
DTEND:20221027T220000
ORGANIZER:MAILTO:BPW Switzerland <davos@bpw.ch>
SUMMARY:Businesstag für Frauen 2022
END:VEVENT
END:VCALENDAR
