BEGIN:VCALENDAR
VERSION:2.0
PRODID:-//BPW Switzerland//NONSGML kigkonsult.se iCalcreator 2.16.12//
METHOD:PUBLISH
X-MS-OLK-FORCEINSPECTOROPEN:TRUE
BEGIN:VEVENT
UID:20260422T125533CEST-1142suT6Ud@BPW Switzerland
DTSTAMP:20260422T105533Z
DESCRIPTION:2. Charity-Golfcompetition der regionalen Service-Clubs\n\n2020
  wurde an der 1. Charity-Golfcompetition das respektable Netto-Charity-Erg
 ebnis von CHF 3'800 erspielt.\nAm 12. Juni soll nun die zweite Auflage auf
  der Anlage des Golf-Clubs Klosters durchgeführt werden und eingeladen sin
 d nicht nur Club-Mitglieder\, sondern auch Familienangehörige\, Freunde\, 
 etc.\nBPW\, die teilnehmen wollen\, schliessen sich bitte mit lydia.buchli
 @gmx.ch kurz. \n
DTSTART:20220612T000000
DTEND:20220612T235900
ORGANIZER:MAILTO:BPW Switzerland <davos@bpw.ch>
SUMMARY:Charity-Golfcompetition der regionalen Service-Clubs
END:VEVENT
END:VCALENDAR
