BEGIN:VCALENDAR
VERSION:2.0
PRODID:-//BPW Switzerland//NONSGML kigkonsult.se iCalcreator 2.16.12//
METHOD:PUBLISH
X-MS-OLK-FORCEINSPECTOROPEN:TRUE
BEGIN:VEVENT
UID:20260422T125712CEST-4581iRf6oV@BPW Switzerland
DTSTAMP:20260422T105712Z
DESCRIPTION: \n\n \n \n\nDie Glarner BPW laden ein zum Regionalanlass mit d
 en Clubs Engiadina\, Chur\, Rheintal\, Davos und Rapperswil. Ausserdem ist
  der Anlass Gelegenheit das 75-jährige Bestehen von BPW Switzerland zu fei
 ern.\nBitte beachtet den Anmeldeschluss\, 2. September.\nMehr Informatione
 n\nHier geht's zur Anmeldung\n
DTSTART:20220916T150000
DTEND:20220916T230000
ORGANIZER:MAILTO:BPW Switzerland <davos@bpw.ch>
SUMMARY:Regionalanlass
END:VEVENT
END:VCALENDAR
