BEGIN:VCALENDAR
VERSION:2.0
PRODID:-//BPW Switzerland//NONSGML kigkonsult.se iCalcreator 2.16.12//
METHOD:PUBLISH
X-MS-OLK-FORCEINSPECTOROPEN:TRUE
BEGIN:VEVENT
UID:20260422T125625CEST-5688EKkShf@BPW Switzerland
DTSTAMP:20260422T105625Z
DESCRIPTION:Freut euch auf ein interessantes Gespräch mit spannenden BPW au
 s eurer Mitte.\nVreny Fritsch und Rosmarie Omlin haben zugesagt\, euch aus
  ihren Anfängen als BPW und ihrem Leben zu erzählen. \n\nNach dem Apero mi
 t Häppli um 19 Uhr lauschen wir dem Sofagespräch und dürfen anschliessend 
 vom Pastabuffet zu 30 Franken inklusive Getränke geniessen. \n\n\nWir tref
 fen uns um 19 Uhr im Hotel Shima an der Dischmastrasse 63 in Davos Dorf.  
 Der Anmeldenuudle ist hier. 
DTSTART:20221005T190000
DTEND:20221005T220000
ORGANIZER:MAILTO:BPW Switzerland <davos@bpw.ch>
SUMMARY:Sofagespräch mit BPW Davos Klosters
END:VEVENT
END:VCALENDAR
