BEGIN:VCALENDAR
VERSION:2.0
PRODID:-//BPW Switzerland//NONSGML kigkonsult.se iCalcreator 2.16.12//
METHOD:PUBLISH
X-MS-OLK-FORCEINSPECTOROPEN:TRUE
BEGIN:VEVENT
UID:20260422T112701CEST-7681rCVdk1@BPW Switzerland
DTSTAMP:20260422T092701Z
DESCRIPTION:Inzwischen haben wir die Details des 5er-Treffens zwischen Lion
 s\, Rotary\, Kiwanis\, Junge Wirtschaftskammer und eben den BPW erhalten. 
 Für die Organisation zeichnet dieses Jahr der Lions Club verantwortlich. D
 essen Präsident\, Stephan Huber\, schickt uns die folgende Einladung (ja\,
  ich weiss\, 'Mitgliederinnen' gibt es nicht\, aber ich wollte nicht in ei
 nen fremden Text eingreifen).\nDa die Anmeldung gemeinsam über die Präside
 ntin erfolgt\, brauchen wir eure verbindliche Zusage bis Montag\, 24. Okto
 ber\, über den inzwischen allseits bekannten Nuudle.\n\n\n\n Liebe Mitglie
 derInnen der Service-Clubs Davos Klosters \n\nHerzlich Willkommen\, wir fr
 euen uns\, euch alle zum traditionellen 5er Treff einzuladen. \n\nWie sagt
  es der Volksmund? «Nichts ist so beständig wie der Wandel». Wandel hat be
 kanntlich viel mit Bewegung zu tun. An diesem Abend bewegen wir uns buchst
 äblich im Kreis. Olaf Holstein geht im Sinne der Kreislaufwirtschaft der F
 rage nach: «Unternehmens-Erfolg mit Nachhaltigkeit – wie ist das möglich?»
 . Anschliessend zeigt uns Hans-Martin Heierling anhand seines kreislauffäh
 igen Skischuhes und dem Sana Giardin in Saas (www.sanagiardin.ch) zwei kon
 krete Projekte aus unserer Region. Diese beiden Beispiele zeigen uns auf\,
  wie die Idee einer Kreislaufwirtschaft lokal im Kleinen funktioniert und 
 dadurch einiges bewegt werden kann. \n\nUm Kreislaufwirtschaft in einem an
 deren Sinne geht es anschliessend. Wir haben in Zusammenarbeit mit dem Dav
 oser Casino die Möglichkeit\, am Black-Jack-Tisch den Kreislauf des (virtu
 ellen) Geldes hautnah mitzuerleben – Spass ist garantiert! \n\nProgramm \n
 \nWann: Montag\, 7. November 2022 \n\nAblauf: 18.00 Eintreffen und Apéro i
 m «ESCHER Raumdesign»\, Promenade 115\, \n\n7270 Davos Platz \n\n18:30 Ref
 erat durch Olaf Holstein und Hans-Martin Heierling \n\nCa. 19.45 Abendesse
 n im Alpine Inn\, Davos Platz \n\nAb 21.00 Das Casino ist eröffnet! \n\n23
 .30 Ende der Veranstaltung \n\nKosten: Menu Fleisch CHF 69.- pro Person / 
 Menu Vegi CHF 64.- pro Person \n\nInbegriffen sind Apéro sowie ein 3-Gang-
 Menu. Die Getränke im Alpine Inn sind nicht inbegriffen. \n\nAnmeldung: bi
 s Mittwoch\, 26. Oktober 2022 via euren Vereinspräsidenten/In. Bitte gebt 
 euer Menüwunsch (Fleisch oder Vegi) an. \n\nWir Lions freuen uns über eure
  Teilnahme und wünschen bereits heute einen geselligen und «bewegten» Aben
 d. \n\nStephan Huber \n\nPräsident Lions Club Davos/Klosters \n\nOlaf Hols
 tein \n\nStudium der Betriebsökonomie an der Fachhochschule in Bern\, Dipl
 omstudium zum Wirtschaftsfachlehrer/Wirtschaftspädagogen an der Universitä
 t St. Gallen IWP. Fachdozent an diversen Schulen\, Firmenschulungen für Mi
 tarbeitende und Kader. Der Betriebsökonom FH und Wirtschaftsfachlehrer Uni
  St. Gallen schaut auf dreissig Jahre Dozententätigkeit in den Fächern gan
 zheitliche (Nachhaltige/ EnkelInnentaugliche) Unternehmungsführung (Umwelt
 management)\, Finance (Swiss GAAP FER)\, Controlling\, Volkswirtschaftsleh
 re\, Internationale Wirtschaftsbeziehungen und Unternehmungsführung an der
  PHW Bern und anderen Hochschulen zurück. Seit 2001 Professur FH – Ganzhei
 tliche Unternehmungsführung und Nachhaltigkeit – EcoEconomics. \n\nDie gan
 zheitliche (Ökologisch\, soziale\, ökonomische\, digitale\, zukunftsfähige
 ) bestimmte Betriebswirtschaftslehre ist seine Kernkompetenz. Seit 2016 be
 gleitete er diverse Unternehmungen auf dem Weg zu «enkeltauglichen» Produk
 ten und Dienstleistungen (Präsident Netzwerk\; www.next-generations.ch). 
 \n\nHans-Martin Heierling \n\nUnabhängiger Unternehmensinhaber bei Heierli
 ng AG. \n\nAusbildung als Orthopädie Schuhmacher\, Weiterbildung in Sporto
 rthopädie und Biomechanik\, Forschung und Entwicklung in der technischen O
 rthopädie sowie im Sportbereich (speziell Skischuhe). \n\nDie Heierling AG
  ist die älteste Skischuherstellerin der Welt und weist zusätzlich wichtig
 e Kompetenzen in der Sportorhopädie auf und entwickelt und baut heute den 
 ersten zirkulären Skischuh. \n\nGründungsmitglied 2017 und Vize Präsident 
 Netzwerk Next-Generations. \n\nAlpine Inn\, Promenade 116\, 7260 Davos Dor
 f \n\nAufstehen mitten in den Bergen und doch direkt in der Stadt\, das is
 t das ALPINE INN. Mit den 48 neu gestalteten\, eleganten Zimmern kombinier
 t es die Ruhe sowie das Pompöse der Graubündner Bergwelt perfekt mit der F
 rische und dem Trend der Stadt Davos. \n\nFür den perfekten Genussmoment i
 n unserem Restaurant 1908 sorgt David Svarc und sein Küchenteam\, welches 
 euch ein Erlebnis für euren Geschmackssinn zaubert. Ein modernes Verständn
 is für kulinarischen Genuss\, mit originellen Elementen\, bilden zusammen 
 mit einem dem Zeitgeist entsprechendem Getränkeangebot ein aufregendes Erl
 ebnis. \n\n\n \n
DTSTART:20221107T000000
DTEND:20221107T235900
ORGANIZER:MAILTO:BPW Switzerland <davos@bpw.ch>
SUMMARY:5er-Treffen
END:VEVENT
END:VCALENDAR
